Workbook

Sheet Schedule
B4: QA Test Schedule
B7: Content Area Assignments Per Full Sweep | G7: Full Sweep Status
B8: Content Type | C8: Testing Date | D8: Assigned To | E8: Time Needed (Days) | G8: Full Test Cycles | H8: Status | I8: Pass | J8: Fail | K8: Other
B9: Armour | C9: Week 1 | D9: Tester 1 | E9: 1 | G9: Month 1 | H9: Completed | I9: 0.1 | J9: 0.05 | K9: 0.8
B10: Body | C10: Week 1 | D10: Tester 1 | E10: 1 | G10: Month 2 | H10: Completed | I10: 0.15 | J10: 0.1 | K10: 0.75
B11: Environment | C11: Week 1 | D11: Tester 1 | E11: 3 | G11: Month 3 | H11: Completed | I11: 0.2 | J11: 0.08 | K11: 0.72
B12: Footstep | C12: Week 2 | D12: Tester 1 | E12: 2 | G12: Month 4 | H12: Completed | I12: 0.4 | J12: 0.1 | K12: 0.5
B13: Magic | C13: Week 2 | D13: Tester 1 | E13: 1 | G13: Month 5 | H13: Completed | I13: 0.8 | J13: 0.05 | K13: 0.15
B14: Music | C14: Week 4 | D14: Tester 1 | E14: 3 | G14: Month 6 - ALPHA | H14: Completed | I14: 0.84 | J14: 0.07 | K14: 0.09
B15: VO | C15: Week 4 | D15: Tester 1 | E15: 3 | G15: Month 7 | H15: Completed | I15: 0.9 | J15: 0.04 | K15: 0.05
B16: Vocal | C16: Week 3 | D16: Tester 1 | E16: 3 | G16: Month 8 - BETA | H16: Completed | I16: 0.9074 | J16: 0 | K16: 0.0926
B17: UI | C17: Week 3 | D17: Tester 1 | E17: 2 | G17: Month 9 - FINAL | H17: In Progress
B18: Weapons | C18: Week 2 | D18: Tester 1 | E18: 2

Sheet Global Status
D2: Overall Status
D3: Overall Pass % (including N/A) | H3: =SUM(E8+H9) -> 0.93666667
D4: Overall Fail % (incl: blocked, Not Imp) | H4: =SUM(E9,H7,H8) -> 0
D5: Overall Not Tested (Including Pending) | H5: =SUM(E7,H6) -> 0.063333333
D6: Project | E6: CUBE | F6: Overall Not Tested % | H6: =AVERAGE(I14:I23) -> 0
D7: Overall Pending % | E7: =AVERAGE(F14:F23) -> 0.063333333 | F7: Overall Blocked % | H7: =AVERAGE(J14:J23) -> 0
D8: Overall Pass % | E8: =AVERAGE(G14:G23) -> 0.8444921 | F8: Overall Not Implemented % | H8: =AVERAGE(K14:K23) -> 0
D9: Overall Fail % | E9: =AVERAGE(H14:H23) -> 0 | F9: Overall N/A % | H9: =AVERAGE(L14:L23) -> 0.092174565
D12: Content Area Status
D13: Content Type | E13: Status | F13: Pending | G13: Pass % | H13: Fail % | I13: Not Tested | J13: Blocked | K13: Not Implemented | L13: N/A
D14: Armour | E14: Completed | F14: =Armour!D6 -> 0 | G14: =Armour!D7 -> 1 | H14: =Armour!D8 -> 0 | I14: =Armour!D9 -> 0 | J14: =Armour!D10 -> 0 | K14: =Armour!D11 -> 0 | L14: =Armour!D12 -> 0
D15: Body | E15: Completed | F15: =Body!D6 -> 0 | G15: =Body!D7 -> 0.95652174 | H15: =Body!D8 -> 0 | I15: =Body!D9 -> 0 | J15: =Body!D10 -> 0 | K15: =Body!D11 -> 0 | L15: =Body!D12 -> 0.043478261
D16: Environment | E16: Completed | F16: =Environment!D6 -> 0 | G16: =Environment!D7 -> 0.62589928 | H16: =Environment!D8 -> 0 | I16: =Environment!D9 -> 0 | J16: =Environment!D10 -> 0 | K16: =Environment!D11 -> 0 | L16: =Environment!D12 -> 0.37410072
D17: Footstep | E17: Completed | F17: =Footstep!D6 -> 0 | G17: =Footstep!D7 -> 1 | H17: =Footstep!D8 -> 0 | I17: =Footstep!D9 -> 0 | J17: =Footstep!D10 -> 0 | K17: =Footstep!D11 -> 0 | L17: =Footstep!D12 -> 0
D18: Magic | E18: Completed | F18: =Magic!D6 -> 0 | G18: =Magic!D7 -> 0.8125 | H18: =Magic!D8 -> 0 | I18: =Magic!D9 -> 0 | J18: =Magic!D10 -> 0 | K18: =Magic!D11 -> 0 | L18: =Magic!D12 -> 0.1875
D19: Music | E19: In Progress | F19: =Music!D6 -> 0.63333333 | G19: =Music!D7 -> 0.3 | H19: =Music!D8 -> 0 | I19: =Music!D9 -> 0 | J19: =Music!D10 -> 0 | K19: =Music!D11 -> 0 | L19: =Music!D12 -> 0.066666667
D20: VO | E20: Completed | F20: =VO!D6 -> 0 | G20: =VO!D7 -> 1 | H20: =VO!D8 -> 0 | I20: =VO!D9 -> 0 | J20: =VO!D10 -> 0 | K20: =VO!D11 -> 0 | L20: =VO!D12 -> 0
D21: Vocal | E21: Completed | F21: =Vocal!D6 -> 0 | G21: =Vocal!D7 -> 1 | H21: =Vocal!D8 -> 0 | I21: =Vocal!D9 -> 0 | J21: =Vocal!D10 -> 0 | K21: =Vocal!D11 -> 0 | L21: =Vocal!D12 -> 0
D22: UI | E22: Completed | F22: =UI!D6 -> 0 | G22: =UI!D7 -> 0.75 | H22: =UI!D8 -> 0 | I22: =UI!D9 -> 0 | J22: =UI!D10 -> 0 | K22: =UI!D11 -> 0 | L22: =UI!D12 -> 0.25
D23: Weapons | E23: Completed | F23: =Weapons!D6 -> 0 | G23: =Weapons!D7 -> 1 | H23: =Weapons!D8 -> 0 | I23: =Weapons!D9 -> 0 | J23: =Weapons!D10 -> 0 | K23: =Weapons!D11 -> 0 | L23: =Weapons!D12 -> 0

Sheet Armour
B2: Armour
B4: Results
B5: Type | C5: Number of items | D5: Stats
B6: Pending | C6: =COUNTIF(D16:D44, "Pending") -> 0 | D6: =SUM(C6/C13) -> 0
B7: Passed | C7: =COUNTIF(D16:D44, "Passed") -> 7 | D7: =SUM(C7/C13) -> 1
B8: Failed | C8: =COUNTIF(D16:D44, "Failed") -> 0 | D8: =SUM(C8/C13) -> 0
B9: Not Tested | C9: =COUNTIF(D16:D44, "Not Tested") -> 0 | D9: =SUM(C9/C13) -> 0
B10: Blocked | C10: =COUNTIF(D16:D44, "Blocked") -> 0 | D10: =SUM(C10/C13) -> 0
B11: Not Implemented | C11: =COUNTIF(D16:D44, "Not Implemented") -> 0 | D11: =SUM(C11/C13) -> 0
B12: N/A | C12: =COUNTIF(D16:D44, "N/A") -> 0 | D12: =SUM(C12/C13) -> 0
B13: TOTAL | C13: =SUM(C6:C12) -> 7
B15: Entity Type | C15: Content | D15: Status | E15: Bug No | F15: Tested By | G15: Comments
B16: Leather
B17: Player | C17: Armour_Leather_Torso_Fast | D17: Passed
B18: Ogre | C18: Armour_Leather_Torso_Fast | D18: Passed
B19: Slith | C19: Armour_Leather_Torso_Fast | D19: Passed
B20: Bauul | C20: Armour_Leather_Torso_Fast | D20: Passed
B21: Cloth
B22: Ratamahatta | C22: Armour_Cloth_Torso_Fast | D22: Passed
B23: Segmented
B24: Knight | C24: Armour_Metal_Plate_Torso_Fast | D24: Passed
B25: Mechanical
B26: Rhino | C26: Armour_Mechanical_Torso_Fast | D26: Passed

Sheet Body
B2: Body
B4: Results
B5: Type | C5: Number of items | D5: Stats
B6: Pending | C6: =COUNTIF(D17:D94, "Pending") -> 0 | D6: =SUM(C6/C13) -> 0
B7: Passed | C7: =COUNTIF(D17:D94, "Passed") -> 66 | D7: =SUM(C7/C13) -> 0.95652174
B8: Failed | C8: =COUNTIF(D17:D94, "Failed") -> 0 | D8: =SUM(C8/C13) -> 0
B9: Not Tested | C9: =COUNTIF(D17:D94, "Not Tested") -> 0 | D9: =SUM(C9/C13) -> 0
B10: Blocked | C10: =COUNTIF(D17:D94, "Blocked") -> 0 | D10: =SUM(C10/C13) -> 0
B11: Not Implemented | C11: =COUNTIF(D17:D94, "Not Implemented") -> 0 | D11: =SUM(C11/C13) -> 0
B12: N/A | C12: =COUNTIF(D17:D94, "N/A") -> 3 | D12: =SUM(C12/C13) -> 0.043478261
B13: TOTAL | C13: =SUM(C6:C12) -> 69
B15: Entity Type | C15: Content | D15: Status | E15: Bug No. | F15: Comments
B16: Body Impact
C17: Body_Impact_Leather | D17: Passed
C18: Body_Impact_Segmented | D18: N/A | F18: On triggers on Player character (Leather)
C19: Body_Impact_Cloth | D19: N/A | F19: On triggers on Player character (Leather)
C20: Body_Impact_Metal | D20: N/A | F20: On triggers on Player character (Leather)
B21: Body Land
C22: Body_Land_Humanoid_Leather_Concrete | D22: Passed
C23: Body_Land_Humanoid_Leather_Grass | D23: Passed
C24: Body_Land_Humanoid_Leather_Metal | D24: Passed
C25: Body_Land_Humanoid_Leather_Sand | D25: Passed
C26: Body_Land_Humanoid_Leather_Rock | D26: Passed
C27: Body_Land_Humanoid_Leather_Stone | D27: Passed
C28: Body_Land_Humanoid_Leather_Peddles | D28: Passed
C29: Body_Land_Humanoid_Leather_Water | D29: Passed
C30: Body_Land_Humanoid_Leather_Wood | D30: Passed
C31: Body_Land_Humanoid_Leather_Undergrowth | D31: Passed
B32: Body Fall
C33: Body_Fall_Humanoid_Generic_Water | D33: Passed
C34: Body_Fall_Humanoid_Segmented_Concrete | D34: Passed
C35: Body_Fall_Humanoid_Segmented_Grass | D35: Passed
C36: Body_Fall_Humanoid_Segmented_Metal | D36: Passed
C37: Body_Fall_Humanoid_Segmented_Sand | D37: Passed
C38: Body_Fall_Humanoid_Segmented_Rock | D38: Passed
C39: Body_Fall_Humanoid_Segmented_Stone | D39: Passed
C40: Body_Fall_Humanoid_Segmented_Water | D40: Passed
C41: Body_Fall_Humanoid_Segmented_Wood | D41: Passed
C42: Body_Fall_Humanoid_Segmented_Undergrowth | D42: Passed
C43: Body_Fall_Humanoid_Segmented_Peddles | D43: Passed
...

Sheet Environment
B2: Environments
B4: Results
B5: Type | C5: Number of items | D5: Stats
B6: Pending | C6: =COUNTIF(D17:G130, "Pending") -> 0 | D6: =SUM(C6/C13) -> 0
B7: Passed | C7: =COUNTIFS(D17:G130,"Passed") -> 261 | D7: =SUM(C7/C13) -> 0.62589928
B8: Failed | C8: =COUNTIF(D17:G130, "Failed") -> 0 | D8: =SUM(C8/C13) -> 0
B9: Not Tested | C9: =COUNTIF(D17:G130, "Not Tested") -> 0 | D9: =SUM(C9/C13) -> 0
B10: Blocked | C10: =COUNTIF(D17:G130, "Blocked") -> 0 | D10: =SUM(C10/C13) -> 0
B11: Not Implemented | C11: =COUNTIF(D17:G130, "Not Implemented") -> 0 | D11: =SUM(C11/C13) -> 0
B12: N/A | C12: =COUNTIF(D17:G130, "N/A") -> 156 | D12: =SUM(C12/C13) -> 0.37410072
B13: TOTAL | C13: =SUM(C6:C12) -> 417
B15: Map | D15: Status | H15: QA
B16: MapType | C16: Map Name | D16: Surface Type | E16: Environment Type | F16: Reverb Heard | G16: Advisor Intro | H16: Bug No. | I16: Tested By | J16: Environment Event Name | K16: Comments
B17: Load Map | C17: metl3 | D17: Passed | E17: Passed | F17: Passed | G17: Passed | J17: ENV_Desert_Generic | K17: Inside / outside area
C18: frag | D18: Passed | E18: Passed | F18: Passed | G18: Passed | J18: ELM_Wind_Warm | K18: Castle Ruins Wind strength based on height
C19: ogrosupply | D19: Passed | E19: Passed | F19: Passed | G19: Passed | J19: ENV_Warehouse_Warm | K19: Inside/outside areas
C20: powerplant | D20: Passed | E20: Passed | F20: Passed | G20: Passed | J20: ENV_Power_Plant_Generic | K20: BLOCKED Centre map, open ceiling wind
C21: aquae | D21: Passed | E21: Passed | F21: Passed | G21: Passed | J21: ENV_Normal_Generic | K21: Inside/outside areas - BLOCKED River in middle of map
C22: drianmp3 | D22: Passed | E22: Passed | F22: Passed | G22: Passed | J22: ENV_Tunnels_Generic | K22: Inside/outside areas
C23: douze | D23: Passed | E23: Passed | F23: Passed | G23: Passed | J23: ENV_Warm_Generic | K23: Castle Ruins Inside / outside areas
C24: kmap5 | D24: Passed | E24: Passed | F24: Passed | G24: Passed | J24: ENV_Night_Water | K24: CHANGED WATER HEIGHT - DOWN BY ONE, so player is actually underwater Inside / outside Map filled with above hip water
C25: q3dm2 | D25: Passed | E25: Passed | F25: Passed | G25: Passed | J25: ENV_Mountain_Cold | K25: CHANGED WATER AREA HEIGHT - DOWN BY ONE - so player is actually under water Castle Ruins - Inside/outside area
C26: uf | D26: Passed | E26: Passed | F26: Passed | G26: Passed | J26: ELM_Wind_Warm | K26: NO XML Script Inside / Outside area
C27: mak1 | D27: Passed | E27: Passed | F27: Passed | G27: Passed | J27: ENV_Tunnels_Warm | K27: Castle Ruins - Inside / otside area
C28: kmap6 | D28: Passed | E28: Passed | F28: Passed | G28: Passed | J28: ENV_Night_Generic | K28: indoor / outdoor areas Unique map textures? Kurt\ktrim_b + kurt\ktrim2_b + kurt\ktrim_corner_1
C29: metl2 | D29: Passed | E29: Passed | F29: Passed | G29: Passed | J29: ENV_Tunnels_Generic | K29: Castle Ruins Inside/Outside areas
C30: mak2 | D30: Passed | E30: Passed | F30: Passed | G30: Passed | J30: ENV_Tunnels_Warm | K30: Inside castle
B31: Load Map > More Maps (1) | C31: Caged | D31: Passed | E31: Passed | F31: Passed | G31: Passed | J31: ELM_Wind_Warm | K31: .CFG removed music fanatic/revenge.ogg inside / outside areas / Cave BLOCKED - Waterfall, Good map for many surface types
C32: Wandering | D32: Passed | E32: Passed | F32: Passed | G32: Passed | J32: ELM_Wind_Generic | K32: .CFG removed music fanatic/revenge.ogg BLOCKED - Inside / Outside areas Waterfall
C33: Oddworld | D33: Passed | E33: Passed | F33: Passed | G33: Passed | J33: ELM_Wind_Generic | K33: Factory ruins Wind based on height
C34: Kmap3 | D34: Passed | E34: Passed | F34: Passed | G34: Passed | J34: ENV_Tunnels_Warm | K34: Inside/outside areas
C35: Hellsgate | D35: Passed | E35: Passed | F35: Passed | G35: Passed | J35: ELM_Wind_Warm | K35: Castle Ruins Inside / Outside areas + water in centre of map = swamp? mud texture not outputting as error, metal playing
C36: Kmap4 | D36: Passed | E36: Passed | F36: Passed | G36: Passed | J36: ENV_Night_Warm | K36: Castle_Ruins Inside / outside areas.
C37: Nudist | D37: Passed | E37: Passed | F37: Passed | G37: Passed | J37: ENV_Warm_Generic | K37: NO XML Script BLOCKED - Inside / Outside areas
C38: Dusk | D38: Passed | E38: Passed | F38: Passed | G38: Passed | J38: ENV_Desert_Generic | K38: BLOCKED - Inside / Outside areas mat4b (earth)
C39: Biologie | D39: Passed | E39: Passed | F39: Passed | G39: Passed | J39: ENV_Power_Plant_Tunnels | K39: NO XML Script
C40: Cellar | D40: Passed | E40: Passed | F40: Passed | G40: Passed | J40: ENV_Power_Plant_Generic | K40: NO XML Script
C41: B2k | D41: Passed | E41: Passed | F41: Passed | G41: Passed | J41: ENV_Tunnels_Warm | K41: NO XML Script Inside / Outside areas
C42: Metl1 | D42: Passed | E42: Passed | F42: Passed | G42: Passed | J42: ENV_Warm_Generic | K42: NO XML Script Inside / Outside areas
C43: Inkedskin | D43: Passed | E43: Passed | F43: Passed | G43: Passed | J43: ENV_Power_Plant_Warehouse | K43: NO XML Script
...

Sheet Footstep
B2: Footsteps
B4: Results
B5: Type | C5: Number of items | D5: Stats
B6: Pending | C6: =COUNTIF(D16:D102, "Pending") -> 0 | D6: =SUM(C6/C13) -> 0
B7: Passed | C7: =COUNTIF(D16:D102, "Passed") -> 79 | D7: =SUM(C7/C13) -> 1
B8: Failed | C8: =COUNTIF(D16:D102, "Failed") -> 0 | D8: =SUM(C8/C13) -> 0
B9: Not Tested | C9: =COUNTIF(D16:D102, "Not Tested") -> 0 | D9: =SUM(C9/C13) -> 0
B10: Blocked | C10: =COUNTIF(D16:D102, "Blocked") -> 0 | D10: =SUM(C10/C13) -> 0
B11: Not Implemented | C11: =COUNTIF(D16:D102, "Not Implemented") -> 0 | D11: =SUM(C11/C13) -> 0
B12: N/A | C12: =COUNTIF(D16:D102, "N/A") -> 0 | D12: =SUM(C12/C13) -> 0
B13: TOTAL | C13: =SUM(C6:C12) -> 79
B15: Entity Type | C15: Content | D15: Status | E15: Bug No. | F15: Tested By | G15: Comments
B16: Knight | C16: Footstep_Knight_Hard_Surface | D16: Passed
C17: Footstep_Knight_Soft_Surface | D17: Passed
C18: Footstep_Humanoid_Run_Stones | D18: Passed
C19: Footstep_Humanoid_Metal_Run_Concrete | D19: Passed
C20: Footstep_Humanoid_Metal_Run_Grass | D20: Passed
C21: Footstep_Humanoid_Metal_Run_Metal | D21: Passed
C22: Footstep_Humanoid_Metal_Run_Sand | D22: Passed
C23: Footstep_Humanoid_Metal_Run_Rock | D23: Passed
C24: Footstep_Humanoid_Metal_Run_Stone | D24: Passed
C25: Footstep_Humanoid_Metal_Run_Water | D25: Passed
C26: Footstep_Humanoid_Metal_Run_Wood | D26: Passed
C27: Footstep_Humanoid_Metal_Run_Undergrowth | D27: Passed
C28: Footstep_Humanoid_Metal_Run_Peddles | D28: Passed
B29: Player | C29: Underwater_Bubbles_Generic | D29: Passed | G29: Underwater only
C30: Footstep_Generic_Water_Wades_Loop | D30: Passed | G30: Underwater only
C31: Footstep_Humanoid_Run_Concrete | D31: Passed
C32: Footstep_Humanoid_Run_Grass | D32: Passed
C33: Footstep_Humanoid_Run_Metal | D33: Passed
C34: Footstep_Humanoid_Run_Sand | D34: Passed
C35: Footstep_Humanoid_Run_Rock | D35: Passed
C36: Footstep_Humanoid_Run_Stone | D36: Passed
C37: Footstep_Humanoid_Run_Water | D37: Passed
C38: Footstep_Humanoid_Run_Wood | D38: Passed
C39: Footstep_Humanoid_Run_Undergrowth | D39: Passed
C40: Footstep_Humanoid_Run_Peddles | D40: Passed
B41: Ogre | C41: Footstep_Humanoid_Run_Concrete | D41: Passed
C42: Footstep_Humanoid_Run_Grass | D42: Passed
C43: Footstep_Humanoid_Run_Metal | D43: Passed
...

Sheet Magic
B2: Magic
B4: Results
B5: Type | C5: Number of items | D5: Stats
B6: Pending | C6: =COUNTIF(D16:D60, "Pending") -> 0 | D6: =SUM(C6/C13) -> 0
B7: Passed | C7: =COUNTIF(D16:D60, "Passed") -> 13 | D7: =SUM(C7/C13) -> 0.8125
B8: Failed | C8: =COUNTIF(D16:D60, "Failed") -> 0 | D8: =SUM(C8/C13) -> 0
B9: Not Tested | C9: =COUNTIF(D16:D60, "Not Tested") -> 0 | D9: =SUM(C9/C13) -> 0
B10: Blocked | C10: =COUNTIF(D16:D60, "Blocked") -> 0 | D10: =SUM(C10/C13) -> 0
B11: Not Implemented | C11: =COUNTIF(D16:D60, "Not Implemented") -> 0 | D11: =SUM(C11/C13) -> 0
B12: N/A | C12: =COUNTIF(D16:D60, "N/A") -> 3 | D12: =SUM(C12/C13) -> 0.1875
B13: TOTAL | C13: =SUM(C6:C12) -> 16
B15: Entity Type | C15: Content | D15: Status | E15: Bug No. | F15: Tested By | G15: Comments
B16: Rocket Ball
B17: Bauul | C17: Magic_Rocket_Fire | D17: Passed
B18: Bauul | C18: Magic_Rocket_Inflight | D18: Passed
B19: Bauul | C19: Magic_Rocket_Impact_Close | D19: Passed
B20: Bauul | C20: Magic_Rocket_Impact_Far | D20: Passed
B21: Bauul | C21: Magic_Rocket_Impact_Debris | D21: Passed
B22: Fire Ball
B23: Ogre | C23: Magic_Fireball_Fire | D23: Passed
B24: Ogre | C24: Magic_Fireball_Inflight | D24: Passed
B25: Ogre | C25: Magic_Fireball_Impact | D25: Passed
B26: Ogre | C26: Magic_Fireball_Impact_Sweetener | D26: Passed
B27: Ice Ball
B28: Knight | C28: Magic_Iceball_Fire | D28: N/A | G28: Not Needed
B29: Knight | C29: Magic_Iceball_Inflight | D29: Passed
B30: Knight | C30: Magic_Iceball_Impact | D30: Passed
B31: Knight | C31: Magic_Iceball_Impact_Sweetener | D31: Passed
B32: Slime Ball
B33: Goblin | C33: Magic_Slimeball_Fire | D33: N/A | G33: Not needed
B34: Goblin | C34: Magic_Slimeball_Inflight | D34: N/A | G34: Not Needed
B35: Goblin | C35: Magic_Slimeball_Impact | D35: Passed

Sheet Music
B2: Music
B4: Results
B5: Type | C5: Number of items | D5: Stats
B6: Pending | C6: =COUNTIF(D16:D51, "Pending") -> 19 | D6: =SUM(C6/C13) -> 0.63333333
B7: Passed | C7: =COUNTIF(D16:D51, "Passed") -> 9 | D7: =SUM(C7/C13) -> 0.3
B8: Failed | C8: =COUNTIF(D16:D51, "Failed") -> 0 | D8: =SUM(C8/C13) -> 0
B9: Not Tested | C9: =COUNTIF(D16:D51, "Not Tested") -> 0 | D9: =SUM(C9/C13) -> 0
B10: Blocked | C10: =COUNTIF(D16:D51, "Blocked") -> 0 | D10: =SUM(C10/C13) -> 0
B11: Not Implemented | C11: =COUNTIF(D16:D51, "Not Implemented") -> 0 | D11: =SUM(C11/C13) -> 0
B12: N/A | C12: =COUNTIF(D16:D51, "N/A") -> 2 | D12: =SUM(C12/C13) -> 0.066666667
B13: TOTAL | C13: =SUM(C6:C12) -> 30
B15: Music Type | C15: Content | D15: Status | E15: Bug No. | F15: Tested By | G15: Comments
B16: Main Tracks | C16: MUS_Game_Titles | D16: N/A
B17: Main Tracks | C17: MUS_Game_Credits | D17: N/A
B18: Main Tracks | C18: MUS_Game_Intro | D18: Passed
B19: Main Tracks | C19: MUS_Game_Explore | D19: Passed
B20: Main Tracks | C20: MUS_Game_Combat | D20: Passed
B21: Main Tracks | C21: MUS_Game_Quad | D21: Passed
B22: Main Tracks | C22: MUS_Game_Defeat | D22: Passed
B23: Main Tracks | C23: MUS_Game_Victory | D23: Passed
B24: Transistion | C24: Intro > Explore | D24: Passed
B25: Transistion | C25: Intro > Combat | D25: Passed
B26: Transistion | C26: Intro > Quad | D26: Passed
B27: Transistion | C27: Intro > Defeat | D27: Pending
... B45: Transistion | C45: Victory > Intro | D45: Pending

Sheet VO
B2: VO
B4: Results
B5: Type | C5: Number of items | D5: Stats
B6: Pending | C6: =COUNTIF(D17:D53, "Pending") -> 0 | D6: =SUM(C6/C13) -> 0
B7: Passed | C7: =COUNTIF(D17:D53, "Passed") -> 29 | D7: =SUM(C7/C13) -> 1
B8: Failed | C8: =COUNTIF(D17:D53, "Failed") -> 0 | D8: =SUM(C8/C13) -> 0
B9: Not Tested | C9: =COUNTIF(D17:D53, "Not Tested") -> 0 | D9: =SUM(C9/C13) -> 0
B10: Blocked | C10: =COUNTIF(D17:D53, "Blocked") -> 0 | D10: =SUM(C10/C13) -> 0
B11: Not Implemented | C11: =COUNTIF(D17:D53, "Not Implemented") -> 0 | D11: =SUM(C11/C13) -> 0
B12: N/A | C12: =COUNTIF(D17:D53, "N/A") -> 0 | D12: =SUM(C12/C13) -> 0
B13: TOTAL | C13: =SUM(C6:C12) -> 29
B15: Entity Type | C15: Content | D15: Status | E15: Bug No. | F15: Tested By | G15: Dialogue Line | H15: Comments
B16: Player Dialogue
C17: Attack 50% Health | D17: Passed
C18: Death | D18: Passed
C19: Secret | D19: Passed
C20: Quad | D20: Passed
C21: Idle 100% Health | D21: Passed
C22: Idle 50% Health | D22: Passed
B23: The Core
C24: The Core - 1 Start | D24: Passed | G24: Listen up! You need to move through the complex to get to the evact point. You may face fierce resistence from the hostiles throughout the complex I will guide you where I can.
C25: The Core - 2 EnterMainComplex | D25: Passed | G25: Commander, you will need to find a switch to open the main door to your left.
C26: The Core - 3 Switch01 | D26: Passed | G26: Commander, this is not good! You need to locate the main control room to stop the alarm.
C27: The Core - 5 TopOfTunnel | D27: Passed | G27: Commander, you will need to find the switch to open the door to main Control room.
C28: The Core - 6 Switch02 | D28: Passed | G28: Commander, you will face fierce hostiles in the control room
C29: The Core - 9 EnterSideRoom | D29: Passed | G29: Commander, the switch to the alarm gate should be located somewhere in this next room
C30: The Core - 10 Switch03 | D30: Passed | G30: Commander, you should now have access to the alarm switch in the main control room
C31: The Core - 11 Switch04 | D31: Passed | G31: Great work Commander! You should see a bridge outside the control room window That is the route you need to take to get to the evact point Head back into the sewage tunnels and find an access point.
C32: The Core - 13 EnterVentiliation | D32: Passed | G32: Commander, there should be a back up control room to give you access to ventiliation room B
C33: The Core - 14 ExtVentiliation | D33: Passed | G33: Commander, you are looking for a switch somewhere in this room to open the gate to the ventiliation room B
C34: The Core - 16 Switch07 | D34: Passed | G34: Good work commander! You should now have access to ventiliation room B, accessed via the ventiliation chamber
C35: The Core - 20 ExitWallWindow | D35: Passed | G35: Commander, schematics suggest there are a few hidden rooms in this location. See if you can find them.
... C41: The Core - 34 Victory | D41: Passed | G41: Great work Commander! The copter is on its way.
B42: Advisor
C43: Generic - Map Intro | D43: Passed
C44: Generic - Map Results - Victory | D44: Passed
C45: Generic - Map Results - Defeat | D45: Passed
C46: Generic - Player Health - Low | D46: Passed
C47: Generic - Player Health - High | D47: Passed

Sheet Vocal
B2: Vocalisation
B4: Results
B5: Type | C5: Number of items | D5: Stats
B6: Pending | C6: =COUNTIF(D16:D70, "Pending") -> 0 | D6: =SUM(C6/C13) -> 0
B7: Passed | C7: =COUNTIF(D16:D70, "Passed") -> 50 | D7: =SUM(C7/C13) -> 1
B8: Failed | C8: =COUNTIF(D16:D70, "Failed") -> 0 | D8: =SUM(C8/C13) -> 0
B9: Not Tested | C9: =COUNTIF(D16:D70, "Not Tested") -> 0 | D9: =SUM(C9/C13) -> 0
B10: Blocked | C10: =COUNTIF(D16:D70, "Blocked") -> 0 | D10: =SUM(C10/C13) -> 0
B11: Not Implemented | C11: =COUNTIF(D16:D70, "Not Implemented") -> 0 | D11: =SUM(C11/C13) -> 0
B12: N/A | C12: =COUNTIF(D16:D70, "N/A") -> 0 | D12: =SUM(C12/C13) -> 0
B13: TOTAL | C13: =SUM(C6:C12) -> 50
B15: Entity Type | C15: Content | D15: Status | E15: Bug No. | F15: Tested By | G15: Comments
B16: Knight | C16: Vocal_Death_Knight_Close | D16: Passed
C17: Vocal_Pain_Knight_Close | D17: Passed
C18: Vocal_Grunt_Knight_Close | D18: Passed
C19: Vocal_Idle_Knight_Close | D19: Passed
C20: Vocal_Attack_Knight_Close | D20: Passed
B21: Ratamahatta | C21: Vocal_Death_Ratamahatta_Close | D21: Passed
C22: Vocal_Pain_Ratamahatta_Close | D22: Passed
C23: Vocal_Grunt_Ratamahatta_Close | D23: Passed
C24: Vocal_Idle_Ratamahatta_Close | D24: Passed
C25: Vocal_Attack_Ratamahatta_Close | D25: Passed
B26: Bauul | C26: Vocal_Death_Bauul_Close | D26: Passed
C27: Vocal_Pain_Bauul_Close | D27: Passed
C28: Vocal_Grunt_Bauul_Close | D28: Passed
C29: Vocal_Idle_Bauul_Close | D29: Passed
C30: Vocal_Attack_Bauul_Close | D30: Passed
B31: Rhino | C31: Vocal_Death_Rhino_Close | D31: Passed
C32: Vocal_Pain_Rhino_Close | D32: Passed
C33: Vocal_Grunt_Rhino_Close | D33: Passed
C34: Vocal_Idle_Rhino_Close | D34: Passed
C35: Vocal_Attack_Rhino_Close | D35: Passed
B36: Ogre | C36: Vocal_Death_Ogre_Close | D36: Passed
C37: Vocal_Pain_Ogre_Close | D37: Passed
C38: Vocal_Grunt_Ogre_Close | D38: Passed
C39: Vocal_Idle_Ogre_Close | D39: Passed
C40: Vocal_Attack_Ogre_Close | D40: Passed
B41: Hellpig | C41: Vocal_Death_HellPig_Close | D41: Passed
C42: Vocal_Pain_HellPig_Close | D42: Passed
C43: Vocal_Grunt_HellPig_Close | D43: Passed
...

Sheet UI
B2: UI
B4: Results
B5: Type | C5: Number of items | D5: Stats
B6: Pending | C6: =COUNTIF(D17:D47, "Pending") -> 0 | D6: =SUM(C6/C13) -> 0
B7: Passed | C7: =COUNTIF(D17:D47, "Passed") -> 18 | D7: =SUM(C7/C13) -> 0.75
B8: Failed | C8: =COUNTIF(D17:D47, "Failed") -> 0 | D8: =SUM(C8/C13) -> 0
B9: Not Tested | C9: =COUNTIF(D17:D47, "Not Tested") -> 0 | D9: =SUM(C9/C13) -> 0
B10: Blocked | C10: =COUNTIF(D17:D47, "Blocked") -> 0 | D10: =SUM(C10/C13) -> 0
B11: Not Implemented | C11: =COUNTIF(D17:D47, "Not Implemented") -> 0 | D11: =SUM(C11/C13) -> 0
B12: N/A | C12: =COUNTIF(D17:D47, "N/A") -> 6 | D12: =SUM(C12/C13) -> 0.25
B13: TOTAL | C13: =SUM(C6:C12) -> 24
B15: Entity Type | C15: Content | D15: Status | E15: Bug No. | F15: Tested By | G15: Comments
B16: Action
C17: UI_Action_HeartBeat_Slow | D17: Passed
C18: UI_Action_HeartBeat_Medium | D18: Passed
C19: UI_Action_HeartBeat_Fast | D19: Passed
C20: UI_Action_Cycle_Weapons | D20: Passed
C21: UI_Action_Out_Of_Ammo | D21: Passed
C22: UI_Menu_Click | D22: N/A | G22: Not Needed
C23: UI_Start_Battle | D23: N/A | G23: Not Needed
C24: UI_Item_Spawn | D24: N/A | G24: Not Needed
C25: UI_Action_Teleport | D25: Passed
C26: UI_Action_Teleport_Emmitter | D26: Passed
C27: UI_Action_Quad_Combat_Attacks | D27: N/A | G27: Not Needed
C28: UI_Action_Secret_Found | D28: N/A | G28: Not Needed
C29: UI_Action_Area_Indication | D29: N/A | G29: Not Needed
C30: UI_Action_Switch_Wall | D30: Passed
C31: UI_Action_Switch_Lever | D31: Passed
C32: UI_Action_JumpPad | D32: Passed
C33: UI_Action_Spawn_Monster | D33: Passed
C34: UI_Action_Spawn_Player | D34: Passed
C35: UI_Action_Gate_Open_Close | D35: Passed
C36: UI_Action_Gate_Open_Far | D36: Passed
B37: Item
C38: UI_Pickup_Armour | D38: Passed
C39: UI_Pickup_Health_Large | D39: Passed
C40: UI_Pickup_Health_Small | D40: Passed
C41: UI_Pickup_Ammo | D41: Passed

Sheet Weapons
B2: Weapons
B4: Results
B5: Type | C5: Number of items | D5: Stats
B6: Pending | C6: =COUNTIF(D17:D54, "Pending") -> 0 | D6: =SUM(C6/C13) -> 0
B7: Passed | C7: =COUNTIF(D17:D54, "Passed") -> 26 | D7: =SUM(C7/C13) -> 1
B8: Failed | C8: =COUNTIF(D17:D54, "Failed") -> 0 | D8: =SUM(C8/C13) -> 0
B9: Not Tested | C9: =COUNTIF(D17:D54, "Not Tested") -> 0 | D9: =SUM(C9/C13) -> 0
B10: Blocked | C10: =COUNTIF(D17:D54, "Blocked") -> 0 | D10: =SUM(C10/C13) -> 0
B11: Not Implemented | C11: =COUNTIF(D17:D54, "Not Implemented") -> 0 | D11: =SUM(C11/C13) -> 0
B12: N/A | C12: =COUNTIF(D17:D54, "N/A") -> 0 | D12: =SUM(C12/C13) -> 0
B13: TOTAL | C13: =SUM(C6:C12) -> 26
B15: Entity Type | C15: Content | D15: Status | E15: Bug No. | F15: Tested By | G15: Comments
B16: Shotgun
B17: Player | C17: Weaponary_Shotgun_Fire | D17: Passed
B18: Player | C18: Weaponary_Shotgun_Shell_Drop_Generic | D18: Passed
B19: Player | C19: Weaponary_Shotgun_Reload_Pump_In | D19: Passed
B20: Player | C20: Weaponary_Shotgun_Reload_Pump_Out | D20: Passed
B21: Ratamahatta | C21: Weaponary_Shotgun_Fire | D21: Passed
B22: Ratamahatta | C22: Weaponary_Shotgun_Shell_Drop_Generic | D22: Passed
B23: Ratamahatta | C23: Weaponary_Shotgun_Reload_Pump_In | D23: Passed
B24: Ratamahatta | C24: Weaponary_Shotgun_Reload_Pump_Out | D24: Passed
B25: Mini Gun
B26: Rhino | C26: Weaponary_Mini_Gun_Fire | D26: Passed | G26: 2 events fired, quick succession
B27: Machine Gun
B28: Player | C28: Weaponary_MachineGun_Fire | D28: Passed
B29: Player | C29: Weaponary_MachineGun_Shell_Drop_Generic | D29: Passed | G29: Looping asset
B30: Rifle
B31: Player | C31: Weaponary_Rifle_Fire | D31: Passed
B32: Player | C32: Weaponary_Rifle_Reload | D32: Passed
B33: Player | C33: Weaponary_Rifle_Bullet_Drop_Generic | D33: Passed
B34: Slith | C34: Weaponary_Rifle_Fire | D34: Passed
B35: Slith | C35: Weaponary_Rifle_Reload | D35: Passed
B36: Slith | C36: Weaponary_Rifle_Bullet_Drop_Generic | D36: Passed
B37: Rocket Launcher
B38: Player | C38: Weaponary_RocketLauncher_Fire_Close | D38: Passed
B39: Player | C39: Weaponary_RocketLauncher_Barrell_Turn | D39: Passed
B40: Player | C40: Weaponary_RocketLauncher_Steam | D40: Passed
B41: Player | C41: Projectile_Rocket_Inflight | D41: Passed
B42: Player | C42: Projectile_Rocket_Impact_Close | D42: Passed
B43: Player | C43: Projectile_Rocket_Impact_Far | D43: Passed
...

Sheet Variables
B3: Status 1 | C3: Status 2
B4: Pending | C4: Pending
B5: Passed | C5: Completed
B6: Failed | C6: In Progress
B7: Not Tested | C7: Blocked
B8: Blocked | C8: N/A
B9: Not Implemented
B10: N/A
