Workbook

Sheet Overview
B2: Content Status Master Overview: CUBE
B3: Area Type | C3: Status | D3: % Completed | E3: Total Time Needed | F3: Total Time Completed | G3: Total Time Remaining | H3: Content Owner
B4: Environment | C4: Completed | D4: =SUM(F4/E4) -> 1 | E4: =SUMIF(Content!B5:B561,B4,Content!P5:P561) -> 2.3125 | F4: =SUMIF(Content!B5:B561,B4,Content!Q5:Q561) -> 2.3125 | G4: =SUMIF(Content!B5:B561,B4,Content!X5:X561) -> -1.8735014e-16 | H4: User 1 | J4: Milestones
J5: Project Start | K5: 41670
B6: Elements | C6: Completed | D6: =SUM(F6/E6) -> 1 | E6: =SUMIF(Content!B5:B561,B6,Content!P5:P561) -> 0.57638889 | F6: =SUMIF(Content!B5:B561,B6,Content!Q5:Q561) -> 0.57638889 | G6: =SUMIF(Content!B6:B561,B6,Content!AA5:AA46) -> 0 | H6: User 1
J7: ALPHA | K7: 41768
B8: Weaponary | C8: Completed | D8: =SUM(F8/E8) -> 1 | E8: =SUMIF(Content!B5:B551,B8,Content!P5:P551) -> 2.0347222 | F8: =SUMIF(Content!B5:B551,B8,Content!Q5:Q551) -> 2.0347222 | G8: =SUMIF(Content!B5:B551,B8,Content!X5:X551) -> -9.0205621e-17 | H8: User 1 | J8: =IF(TODAY()>=K7,"Done",CONCATENATE(K7-TODAY(),"")) -> Done | K8: =SUM(J8-G40) -> #VALUE!
J9: BETA | K9: 41782
B10: Projectiles | C10: Completed | D10: =SUM(F10/E10) -> 1 | E10: =SUMIF(Content!B5:B551,B10,Content!P5:P551) -> 0.41319444 | F10: =SUMIF(Content!B5:B551,B10,Content!Q5:Q551) -> 0.41319444 | G10: =SUMIF(Content!B5:B551,B10,Content!X5:X551) -> -1.3877788e-17 | H10: User 1 | J10: =IF(TODAY()>=K9,"Done",CONCATENATE(K9-TODAY(),"")) -> Done | K10: =SUM(J10-G40) -> #VALUE!
J11: FINAL | K11: 41793
B12: Armour | C12: Completed | D12: =SUM(F12/E12) -> 1 | E12: =SUMIF(Content!B5:B551,B12,Content!P5:P551) -> 0.49305556 | F12: =SUMIF(Content!B5:B551,B12,Content!Q5:Q551) -> 0.49305556 | G12: =SUMIF(Content!B5:B551,B12,Content!X5:X551) -> -4.1633363e-17 | H12: User 1 | J12: =IF(TODAY()>=K11,"Done",CONCATENATE(K11-TODAY(),"")) -> Done | K12: =SUM(J12-G40) -> #VALUE!
J13: Wwise Lic | K13: 41820
B14: Footstep | C14: Completed | D14: =SUM(F14/E14) -> 1 | E14: =SUMIF(Content!B5:B551,B14,Content!P5:P551) -> 4.1423611 | F14: =SUMIF(Content!B5:B551,B14,Content!Q5:Q551) -> 4.1423611 | G14: =SUMIF(Content!B5:B551,B14,Content!X5:X551) -> -6.5225603e-16 | H14: User 1 | J14: =IF(TODAY()>=K13,"Done",CONCATENATE(K13-TODAY(),"")) -> Done | K14: =SUM(J14-G40) -> #VALUE!
J15: Game Release | K15: 41820
B16: Bodyfall | C16: Completed | D16: =SUM(F16/E16) -> 1 | E16: =SUMIF(Content!B5:B551,B16,Content!P5:P551) -> 4.2222222 | F16: =SUMIF(Content!B5:B551,B16,Content!Q5:Q551) -> 4.2222222 | G16: =SUMIF(Content!B5:B551,B16,Content!X5:X551) -> 3.8163916e-17 | H16: User 1 | J16: =IF(TODAY()>=K15,"Done",CONCATENATE(K15-TODAY(),"")) -> Done | K16: =SUM(J16-G40) -> #VALUE!
B18: Vocalisation | C18: Completed | D18: =SUM(F18/E18) -> 1 | E18: =SUMIF(Content!B5:B551,B18,Content!P5:P551) -> 4.3472222 | F18: =SUMIF(Content!B5:B551,B18,Content!Q5:Q551) -> 4.3472222 | G18: =SUMIF(Content!B5:B551,B18,Content!X5:X551) -> 1.110223e-16 | H18: User 1
B20: UI | C20: Completed | D20: =SUM(F20/E20) -> 1 | E20: =SUMIF(Content!B5:B551,B20,Content!P5:P551) -> 0.97222222 | F20: =SUMIF(Content!B5:B551,B20,Content!Q5:Q551) -> 0.97222222 | G20: =SUMIF(Content!B5:B551,B20,Content!X5:X551) -> 1.3877788e-17 | H20: User 1
B22: Dialogue | C22: Completed | D22: =SUM(F22/E22) -> 1 | E22: =SUMIF(Content!B7:B553,B22,Content!P7:P553) -> 0.65625 | F22: =SUMIF(Content!B7:B553,B22,Content!Q7:Q553) -> 0.65625 | G22: =SUMIF(Content!B7:B553,B22,Content!X7:X553) -> 4.1633363e-17 | H22: User 1
B24: Music | C24: Completed | D24: =SUM(F24/E24) -> 1 | E24: =SUMIF(Content!B5:B551,B24,Content!P5:P551) -> 2.5416667 | F24: =SUMIF(Content!B5:B551,B24,Content!Q5:Q551) -> 2.5416667 | G24: =SUMIF(Content!B5:B551,B24,Content!X5:X551) -> 3.6082248e-16 | H24: User 1
B26: Magic | C26: In Progress | D26: =SUM(F26/E26) -> 1 | E26: =SUMIF(Content!B5:B551,B26,Content!P5:P551) -> 0.80902778 | F26: =SUMIF(Content!B5:B551,B26,Content!Q5:Q551) -> 0.80902778 | G26: =SUMIF(Content!B5:B551,B26,Content!X5:X551) -> 1.3877788e-17 | H26: User 1
B28: Misc | C28: In Progress | D28: =SUM(F28/E28) -> 1 | E28: =SUMIF(Content!B5:B551,B28,Content!P5:P551) -> 15.895833 | F28: =SUMIF(Content!B5:B551,B28,Content!Q5:Q551) -> 15.895833 | G28: =SUMIF(Content!B5:B551,B28,Content!X5:X551) -> 2.4980018e-16 | H28: User 1
B30: Trailer | C30: Pending | D30: =SUM(F30/E30) -> 1 | E30: =SUMIF(Content!B7:B553,B30,Content!P7:P553) -> 1.6666667 | F30: =SUMIF(Content!B7:B553,B30,Content!Q7:Q553) -> 1.6666667 | G30: =SUMIF(Content!B7:B553,B30,Content!X7:X553) -> 5.5511151e-17 | H30: User 1
B32: Data | C32: Completed | D32: =SUM(F32/E32) -> 1 | E32: =SUMIF(Content!B9:B555,B32,Content!P9:P555) -> 2.8333333 | F32: =SUMIF(Content!B9:B555,B32,Content!Q9:Q555) -> 2.8333333 | G32: =SUMIF(Content!B9:B555,B32,Content!X9:X555) -> -5.5511151e-17 | H32: User 1
B34: TEST | C34: In Progress | D34: =SUM(F34/E34) -> 0 | E34: =SUMIF(Content!B11:B557,B34,Content!P11:P557) -> 0.33333333 | F34: =SUMIF(Content!B11:B557,B34,Content!Q11:Q557) -> 0 | G34: =SUMIF(Content!B11:B557,B34,Content!X11:X557) -> 0.33333333 | H34: User 1
D36: Project % Completed | E36: Project Total Time | F36: Time Completed | G36: Time Remaining | H36: Weekly User Hours Available
H37: User 1 | I37: User 2 | J37: User 3 | K37: User 4
B38: Totals | C38: Hours | D38: =AVERAGE(D4,D6,D8,D10,D12,D14,D16,D18,D20,D22,D24,D26,D28,D30,D32,D34) -> 0.9375 | E38: =SUM(E4,E6,E8,E10,E12,E14,E18,E20,E24,E28,E26,E22,E16,E18,E30,E32,E34) -> 48.597222 | F38: =SUM(F4,F6,F8,F10,F12,F14,F18,F20,F24,F28,F26,F22,F16,F30,F32,F34) -> 43.916667 | G38: =SUM(G4,G6,G8,G10,G12,G14,G18,G20,G16,G24,G28,G22,G26,G30,G32,G34) -> 0.33333333 | H38: 2.5 | I38: 0 | J38: 0 | K38: 0
C39: Weeks | E39: =E38/H38 -> 19.438889 | F39: =F38/H38 -> 17.566667 | G39: =G38/H38 -> 0.13333333
C40: Days | E40: =SUM(E39/10*60) -> 116.63333 | F40: =SUM(F39/10*60) -> 105.4 | G40: =SUM(G39/10*60) -> 0.8

Sheet Schedule
B2: Schedule: CUBE
B4: User 1 | H4: =Variables!E6 -> User 2 | N4: =Variables!E7 -> User 3 | T4: =Variables!E8 -> User 4
B5: Date | C5: Available Hours | D5: Task Hours Assigned | E5: Task Hours Outstanding | F5: Hours Over or Under | H5: Date | I5: Available Hours | J5: Task Hours Assigned | K5: Task Hours Outstanding | L5: Hours Over or Under | N5: Date | O5: Available Hours | P5: Task Hours Assigned | Q5: Task Hours Outstanding | R5: Hours Over or Under | T5: Date | U5: Available Hours | V5: Task Hours Assigned | W5: Task Hours Outstanding | X5: Hours Over or Under
B6: Week 1 | C6: =Overview!H38 -> 2.5 | D6: =SUMIFS(Content!P5:P551,Content!Z5:Z551,Schedule!B4,Content!Y5:Y551,Schedule!B6) -> 2.7881944 | E6: =SUMIFS(Content!X5:X551,Content!Z5:Z551,Schedule!B4,Content!Y5:Y551,Schedule!B6) -> -3.0531133e-16 | F6: =SUM(C6-D6) -> -0.28819444 | H6: Week 1 | I6: =Overview!I38 -> 0 | J6: =SUMIFS(Content!P5:P551,Content!Z5:Z551,Schedule!H4,Content!Y5:Y551,Schedule!H6) -> 0 | L6: =SUM(I6-J6) -> 0 | N6: Week 1 | O6: =Overview!J38 -> 0 | P6: =SUMIFS(Content!P5:P551,Content!Z5:Z551,Schedule!N4,Content!Y5:Y551,Schedule!N6) -> 0 | R6: =SUM(O6-P6) -> 0 | T6: Week 1 | U6: =Overview!K38 -> 0 | V6: =SUMIFS(Content!P5:P551,Content!Z5:Z551,Schedule!T4,Content!Y5:Y551,Schedule!T6) -> 0 | X6: =SUM(U6-V6) -> 0
B7: Week 2 | C7: =Overview!H38 -> 2.5 | D7: =SUMIFS(Content!P5:P551,Content!Z5:Z551,Schedule!B4,Content!Y5:Y551,Schedule!B7) -> 2.6597222 | E7: =SUMIFS(Content!X5:X551,Content!Z5:Z551,Schedule!B4,Content!Y5:Y551,Schedule!B7) -> -8.3266727e-17 | F7: =SUM(C7-D7) -> -0.15972222 | H7: Week 2 | I7: =Overview!I38 -> 0 | J7: =SUMIFS(Content!P5:P551,Content!Z5:Z551,Schedule!H4,Content!Y5:Y551,Schedule!H7) -> 0 | L7: =SUM(I7-J7) -> 0 | N7: Week 2 | O7: =Overview!J38 -> 0 | P7: =SUMIFS(Content!P5:P551,Content!Z5:Z551,Schedule!N4,Content!Y5:Y551,Schedule!N7) -> 0 | R7: =SUM(O7-P7) -> 0 | T7: Week 2 | U7: =Overview!K38 -> 0 | V7: =SUMIFS(Content!P5:P551,Content!Z5:Z551,Schedule!T4,Content!Y5:Y551,Schedule!T7) -> 0 | X7: =SUM(U7-V7) -> 0
B8: Week 3 | C8: 2.0833333 | D8: =SUMIFS(Content!P5:P551,Content!Z5:Z551,Schedule!B4,Content!Y5:Y551,Schedule!B8) -> 2.0798611 | E8: =SUMIFS(Content!X5:X551,Content!Z5:Z551,Schedule!B4,Content!Y5:Y551,Schedule!B8) -> 5.5511151e-17 | F8: =SUM(C8-D8) -> 0.0034722222 | H8: Week 3 | I8: =Overview!I38 -> 0 | J8: =SUMIFS(Content!P5:P551,Content!Z5:Z551,Schedule!H4,Content!Y5:Y551,Schedule!H8) -> 0 | L8: =SUM(I8-J8) -> 0 | N8: Week 3 | O8: =Overview!J38 -> 0 | P8: =SUMIFS(Content!P5:P551,Content!Z5:Z551,Schedule!N4,Content!Y5:Y551,Schedule!N8) -> 0 | R8: =SUM(O8-P8) -> 0 | T8: Week 3 | U8: =Overview!K38 -> 0 | V8: =SUMIFS(Content!P5:P551,Content!Z5:Z551,Schedule!T4,Content!Y5:Y551,Schedule!T8) -> 0 | X8: =SUM(U8-V8) -> 0
B9: Week 4 | C9: =Overview!H38 -> 2.5 | D9: =SUMIFS(Content!P5:P551,Content!Z5:Z551,Schedule!B4,Content!Y5:Y551,Schedule!B9) -> 2.1805556 | E9: =SUMIFS(Content!X5:X551,Content!Z5:Z551,Schedule!B4,Content!Y5:Y551,Schedule!B9) -> 5.5511151e-17 | F9: =SUM(C9-D9) -> 0.31944444 | H9: Week 4 | I9: =Overview!I38 -> 0 | J9: =SUMIFS(Content!P5:P551,Content!Z5:Z551,Schedule!H4,Content!Y5:Y551,Schedule!H9) -> 0 | L9: =SUM(I9-J9) -> 0 | N9: Week 4 | O9: =Overview!J38 -> 0 | P9: =SUMIFS(Content!P5:P551,Content!Z5:Z551,Schedule!N4,Content!Y5:Y551,Schedule!N9) -> 0 | R9: =SUM(O9-P9) -> 0 | T9: Week 4 | U9: =Overview!K38 -> 0 | V9: =SUMIFS(Content!P5:P551,Content!Z5:Z551,Schedule!T4,Content!Y5:Y551,Schedule!T9) -> 0 | X9: =SUM(U9-V9) -> 0
B10: Week 5 | C10: =Overview!H38 -> 2.5 | D10: =SUMIFS(Content!P5:P551,Content!Z5:Z551,Schedule!B4,Content!Y5:Y551,Schedule!B10) -> 2.4756944 | E10: =SUMIFS(Content!X5:X551,Content!Z5:Z551,Schedule!B4,Content!Y5:Y551,Schedule!B10) -> -6.9388939e-17 | F10: =SUM(C10-D10) -> 0.024305556 | H10: Week 5 | I10: =Overview!I38 -> 0 | J10: =SUMIFS(Content!P5:P551,Content!Z5:Z551,Schedule!H4,Content!Y5:Y551,Schedule!H10) -> 0 | L10: =SUM(I10-J10) -> 0 | N10: Week 5 | O10: =Overview!J38 -> 0 | P10: =SUMIFS(Content!P5:P551,Content!Z5:Z551,Schedule!N4,Content!Y5:Y551,Schedule!N10) -> 0 | R10: =SUM(O10-P10) -> 0 | T10: Week 5 | U10: =Overview!K38 -> 0 | V10: =SUMIFS(Content!P5:P551,Content!Z5:Z551,Schedule!T4,Content!Y5:Y551,Schedule!T10) -> 0 | X10: =SUM(U10-V10) -> 0
B11: Week 6 | C11: =Overview!H38 -> 2.5 | D11: =SUMIFS(Content!P5:P551,Content!Z5:Z551,Schedule!B4,Content!Y5:Y551,Schedule!B11) -> 2.53125 | E11: =SUMIFS(Content!X5:X551,Content!Z5:Z551,Schedule!B4,Content!Y5:Y551,Schedule!B11) -> -1.3877788e-17 | F11: =SUM(C11-D11) -> -0.03125 | H11: Week 6 | I11: =Overview!I38 -> 0 | J11: =SUMIFS(Content!P5:P551,Content!Z5:Z551,Schedule!H4,Content!Y5:Y551,Schedule!H11) -> 0 | L11: =SUM(I11-J11) -> 0 | N11: Week 6 | O11: =Overview!J38 -> 0 | P11: =SUMIFS(Content!P5:P551,Content!Z5:Z551,Schedule!N4,Content!Y5:Y551,Schedule!N11) -> 0 | R11: =SUM(O11-P11) -> 0 | T11: Week 6 | U11: =Overview!K38 -> 0 | V11: =SUMIFS(Content!P5:P551,Content!Z5:Z551,Schedule!T4,Content!Y5:Y551,Schedule!T11) -> 0 | X11: =SUM(U11-V11) -> 0
B12: Week 7 | C12: =Overview!H38 -> 2.5 | D12: =SUMIFS(Content!P5:P551,Content!Z5:Z551,Schedule!B4,Content!Y5:Y551,Schedule!B12) -> 2.5416667 | E12: =SUMIFS(Content!X5:X551,Content!Z5:Z551,Schedule!B4,Content!Y5:Y551,Schedule!B12) -> -2.7755576e-16 | F12: =SUM(C12-D12) -> -0.041666667
B13: Week 8 | C13: =Overview!H38 -> 2.5 | D13: =SUMIFS(Content!P5:P551,Content!Z5:Z551,Schedule!B4,Content!Y5:Y551,Schedule!B13) -> 2.7256944 | E13: =SUMIFS(Content!X5:X551,Content!Z5:Z551,Schedule!B4,Content!Y5:Y551,Schedule!B13) -> 6.2450045e-17 | F13: =SUM(C13-D13) -> -0.22569444
B14: Week 9 | C14: =Overview!H38 -> 2.5 | D14: =SUMIFS(Content!P5:P551,Content!Z5:Z551,Schedule!B4,Content!Y5:Y551,Schedule!B14) -> 2.3819444 | E14: =SUMIFS(Content!X5:X551,Content!Z5:Z551,Schedule!B4,Content!Y5:Y551,Schedule!B14) -> 2.7755576e-17 | F14: =SUM(C14-D14) -> 0.11805556
B15: Week 10 | C15: 2.0833333 | D15: =SUMIFS(Content!P5:P551,Content!Z5:Z551,Schedule!B4,Content!Y5:Y551,Schedule!B15) -> 1.9166667 | E15: =SUMIFS(Content!X5:X551,Content!Z5:Z551,Schedule!B4,Content!Y5:Y551,Schedule!B15) -> -3.469447e-18 | F15: =SUM(C15-D15) -> 0.16666667
B16: Week 11 | C16: 2.0833333 | D16: =SUMIFS(Content!P5:P551,Content!Z5:Z551,Schedule!B4,Content!Y5:Y551,Schedule!B16) -> 1.9930556 | E16: =SUMIFS(Content!X5:X551,Content!Z5:Z551,Schedule!B4,Content!Y5:Y551,Schedule!B16) -> -6.9388939e-18 | F16: =SUM(C16-D16) -> 0.090277778
B17: Week 12 | C17: 2.0833333 | D17: =SUMIFS(Content!P5:P551,Content!Z5:Z551,Schedule!B4,Content!Y5:Y551,Schedule!B17) -> 1.4340278 | E17: =SUMIFS(Content!X5:X551,Content!Z5:Z551,Schedule!B4,Content!Y5:Y551,Schedule!B17) -> -9.0205621e-17 | F17: =SUM(C17-D17) -> 0.64930556
B18: Week 13 | C18: 2.0833333 | D18: =SUMIFS(Content!P5:P551,Content!Z5:Z551,Schedule!B4,Content!Y5:Y551,Schedule!B18) -> 2.4583333 | E18: =SUMIFS(Content!X5:X551,Content!Z5:Z551,Schedule!B4,Content!Y5:Y551,Schedule!B18) -> 4.4408921e-16 | F18: =SUM(C18-D18) -> -0.375
B19: Week 14 | C19: 2.0833333 | D19: =SUMIFS(Content!P5:P551,Content!Z5:Z551,Schedule!B4,Content!Y5:Y551,Schedule!B19) -> 2.0833333 | E19: =SUMIFS(Content!X5:X551,Content!Z5:Z551,Schedule!B4,Content!Y5:Y551,Schedule!B19) -> 5.5511151e-17 | F19: =SUM(C19-D19) -> 0
B20: Week 15 | C20: 2.0833333 | D20: =SUMIFS(Content!P5:P551,Content!Z5:Z551,Schedule!B4,Content!Y5:Y551,Schedule!B20) -> 2 | E20: =SUMIFS(Content!X5:X551,Content!Z5:Z551,Schedule!B4,Content!Y5:Y551,Schedule!B20) -> 0.33333333 | F20: =SUM(C20-D20) -> 0.083333333
B21: Week 16 | C21: 2.0833333 | D21: =SUMIFS(Content!P5:P551,Content!Z5:Z551,Schedule!B4,Content!Y5:Y551,Schedule!B21) -> 2.0833333 | E21: =SUMIFS(Content!X5:X551,Content!Z5:Z551,Schedule!B4,Content!Y5:Y551,Schedule!B21) -> 0 | F21: =SUM(C21-D21) -> 0
B22: Week 17 | C22: 2.0833333 | D22: =SUMIFS(Content!P5:P551,Content!Z5:Z551,Schedule!B4,Content!Y5:Y551,Schedule!B22) -> 2.0833333 | E22: =SUMIFS(Content!X5:X551,Content!Z5:Z551,Schedule!B4,Content!Y5:Y551,Schedule!B22) -> 0 | F22: =SUM(C22-D22) -> 0
B23: Week 18 | C23: 2.0833333 | D23: =SUMIFS(Content!P5:P551,Content!Z5:Z551,Schedule!B4,Content!Y5:Y551,Schedule!B23) -> 2.0833333 | E23: =SUMIFS(Content!X5:X551,Content!Z5:Z551,Schedule!B4,Content!Y5:Y551,Schedule!B23) -> 0 | F23: =SUM(C23-D23) -> 0
B24: Week 19 | C24: 2.0833333 | D24: =SUMIFS(Content!P5:P551,Content!Z5:Z551,Schedule!B4,Content!Y5:Y551,Schedule!B24) -> 2.0833333 | E24: =SUMIFS(Content!X5:X551,Content!Z5:Z551,Schedule!B4,Content!Y5:Y551,Schedule!B24) -> 0 | F24: =SUM(C24-D24) -> 0
B25: Week 20 | C25: 1.6666667 | D25: =SUMIFS(Content!P5:P551,Content!Z5:Z551,Schedule!B4,Content!Y5:Y551,Schedule!B25) -> 1.6666667 | E25: =SUMIFS(Content!X5:X551,Content!Z5:Z551,Schedule!B4,Content!Y5:Y551,Schedule!B25) -> 5.5511151e-17 | F25: =SUM(C25-D25) -> 0

Sheet Content
B2: Project Asset List: CUBE
B3: Content | K3: Task Time Estimation | Q3: Schedule | AA3: Milestone | AB3: Status
B4: Area Type | C4: Priority | D4: Content Name | E4: Description / Performance Notes | F4: Switch / State | G4: Sound Event Name | H4: Asset Type | I4: Variations Needed | J4: Format | K4: R & D | L4: Recording | M4: Editing | N4: Implement | O4: Mix | P4: Total Time Needed | Q4: Time Completed | R4: R &D | S4: Recording | T4: Editing | U4: Implement | V4: Rework | W4: Mix | X4: Time Remaining | Y4: Date To Be Worked On | Z4: Assigned To | AA4: Milestone | AC4: Comments
B5: Weaponary | C5: 1 | D5: Weaponary_Shotgun_Fire_Close | E5: Standard weapon fire. Dual Layer reload, no delay | F5: N/A | G5: Fire_Shotgun_Player/Monster | H5: One Shot | I5: 6 | J5: Mono - 96khz - 24 bit | K5: 0.041666667 | L5: 0.041666667 | M5: 0.083333333 | N5: 0.041666667 | O5: 0.020833333 | P5: =SUM(K5:O5) -> 0.22916667 | Q5: =SUM(R5:W5) -> 0.22916667 | R5: 0.010416667 | S5: 0.083333333 | T5: 0.10416667 | U5: 0.010416667 | W5: 0.020833333 | X5: =SUM(P5-Q5) -> -2.7755576e-17 | Y5: Week 5 | Z5: User 1 | AA5: ALPHA | AB5: Completed
B6: Weaponary | C6: 3 | D6: Weaponary_Shotgun_Shell_Drop_Generic | E6: Dual layer with Fire with Delay | F6: Material type does not work | G6: Fire_Shotgun_Player | H6: One Shot | I6: 10 | J6: Mono - 96khz - 24 bit | K6: 0.010416667 | L6: 0.020833333 | M6: 0.083333333 | N6: 0.010416667 | O6: 0.010416667 | P6: =SUM(K6:O6) -> 0.13541667 | Q6: =SUM(R6:W6) -> 0.13541667 | R6: 0.010416667 | S6: 0.020833333 | T6: 0.083333333 | U6: 0.010416667 | W6: 0.010416667 | X6: =SUM(P6-Q6) -> 0 | Y6: Week 5 | Z6: User 1 | AA6: ALPHA | AB6: Completed
B7: Weaponary | C7: 2 | D7: Weaponary_Shotgun_Reload_Pump_In | E7: Dual Layer with Fire with Delay | F7: No | G7: Fire_Shotgun_Player | H7: One Shot | I7: 5 | J7: Mono - 96khz - 24 bit | K7: 0.010416667 | L7: 0.020833333 | M7: 0.083333333 | N7: 0.020833333 | O7: 0.010416667 | P7: =SUM(K7:O7) -> 0.14583333 | Q7: =SUM(R7:W7) -> 0.14583333 | R7: 0.010416667 | S7: 0.034722222 | T7: 0.083333333 | U7: 0.010416667 | W7: 0.0069444444 | X7: =SUM(P7-Q7) -> 0 | Y7: Week 5 | Z7: User 1 | AA7: ALPHA | AB7: Completed
B8: Weaponary | C8: 2 | D8: Weaponary_Shotgun_Reload_Pump_Out | E8: Dual Layer with Fire with Delay | F8: No | G8: Fire_Shotgun_Player | H8: One Shot | I8: 5 | J8: Mono - 96khz - 24 bit | K8: 0.010416667 | L8: 0.020833333 | M8: 0.083333333 | N8: 0.020833333 | O8: 0.010416667 | P8: =SUM(K8:O8) -> 0.14583333 | Q8: =SUM(R8:W8) -> 0.14583333 | R8: 0.010416667 | S8: 0.034722222 | T8: 0.083333333 | U8: 0.010416667 | W8: 0.0069444444 | X8: =SUM(P8-Q8) -> 0 | Y8: Week 5 | Z8: User 1 | AA8: ALPHA | AB8: Completed
B9: Weaponary | C9: 4 | D9: Weaponary_Shotgun_Fire_Far | E9: Far Version, blend, Batch same EQ filter | F9: N/A | G9: Fire_Shotgun_Player | H9: One Shot | I9: 3 | J9: Mono - 96khz - 24 bit | P9: =SUM(K9:O9) -> 0 | Q9: =SUM(R9:W9) -> 0 | X9: =SUM(P9-Q9) -> 0 | AB9: Descoped
B10: Weaponary | C10: 4 | D10: Weaponary_Shotgun_Shell_Drop_Hard_Surface | E10: Dual layer with Fire with Delay | F10: Material type does not work | G10: Fire_Shotgun_Player | H10: One Shot | I10: 10 | J10: Mono - 96khz - 24 bit | P10: =SUM(K10:O10) -> 0 | Q10: =SUM(R10:W10) -> 0 | X10: =SUM(P10-Q10) -> 0 | AB10: Descoped
B11: Weaponary | C11: 4 | D11: Weaponary_Shotgun_Shell_Drop_Soft_Surface | E11: Dual layer with Fire with Delay | F11: Material type does not work | G11: Fire_Shotgun_Player | H11: One Shot | I11: 10 | J11: Mono - 96khz - 24 bit | P11: =SUM(K11:O11) -> 0 | Q11: =SUM(R11:W11) -> 0 | X11: =SUM(P11-Q11) -> 0 | AB11: Descoped
B12: Weaponary | C12: 1 | D12: Weaponary_Mini_Gun_Fire_Close | E12: Stand Weapon Fire | F12: N/A | G12: Fire_ChainGun_Monster | H12: One Shot | I12: 6 | J12: Mono - 96khz - 24 bit | K12: 0.010416667 | L12: 0 | M12: 0 | N12: 0.020833333 | O12: 0.020833333 | P12: =SUM(K12:O12) -> 0.052083333 | Q12: =SUM(R12:W12) -> 0.052083333 | R12: 0.010416667 | S12: 0 | T12: 0 | U12: 0.020833333 | W12: 0.020833333 | X12: =SUM(P12-Q12) -> 0 | Y12: Week 5 | Z12: User 1 | AA12: ALPHA | AB12: Completed
B13: Weaponary | C13: 1 | D13: Weaponary_MachineGun_Fire_Close | E13: Stand Weapon Fire | F13: N/A | G13: Fire_ChainGun_Player | H13: One Shot | I13: 6 | J13: Mono - 96khz - 24 bit | K13: 0.020833333 | L13: 0.020833333 | M13: 0.083333333 | N13: 0.03125 | O13: 0.020833333 | P13: =SUM(K13:O13) -> 0.17708333 | Q13: =SUM(R13:W13) -> 0.17708333 | R13: 0.010416667 | S13: 0.041666667 | T13: 0.083333333 | U13: 0.020833333 | W13: 0.020833333 | X13: =SUM(P13-Q13) -> 0 | Y13: Week 5 | Z13: User 1 | AA13: ALPHA | AB13: Completed
B14: Weaponary | C14: 2 | D14: Weaponary_MachineGun_Shell_Drop_Generic | E14: Dual layer with Fire with Delay | F14: Material type does not work | G14: Fire_Rifle_Player | H14: Loop | I14: 10 | J14: Mono - 96khz - 24 bit | K14: 0.0034722222 | L14: 0.020833333 | M14: 0.083333333 | N14: 0.020833333 | O14: 0.010416667 | P14: =SUM(K14:O14) -> 0.13888889 | Q14: =SUM(R14:W14) -> 0.13888889 | R14: 0.010416667 | S14: 0.020833333 | T14: 0.083333333 | U14: 0.010416667 | W14: 0.013888889 | X14: =SUM(P14-Q14) -> -2.7755576e-17 | Y14: Week 5 | Z14: User 1 | AA14: ALPHA | AB14: Completed
B15: Weaponary | C15: 4 | D15: Weaponary_MachineGun_Fire_Far | E15: Far Version, blend, Batch same EQ filter | F15: N/A | G15: Fire_ChainGun_Player | H15: One Shot | I15: 10 | J15: Mono - 96khz - 24 bit | P15: =SUM(K15:O15) -> 0 | Q15: =SUM(R15:W15) -> 0 | X15: =SUM(P15-Q15) -> 0 | AB15: Descoped
B16: Weaponary | C16: 3 | D16: Weaponary_MachineGun_Shell_Drop_Hard_Surface | E16: Dual layer with Fire with Delay | F16: Material type does not work | G16: Fire_Rifle_Player | H16: One Shot | I16: 10 | J16: Mono - 96khz - 24 bit | P16: =SUM(K16:O16) -> 0 | Q16: =SUM(R16:W16) -> 0 | X16: =SUM(P16-Q16) -> 0 | AB16: Descoped
B17: Weaponary | C17: 3 | D17: Weaponary_MachineGun_Shell_Drop_Soft_Surface | E17: Dual layer with Fire with Delay | F17: Material type does not work | G17: Fire_Rifle_Player | H17: One Shot | I17: 10 | J17: Mono - 96khz - 24 bit | P17: =SUM(K17:O17) -> 0 | Q17: =SUM(R17:W17) -> 0 | X17: =SUM(P17-Q17) -> 0 | AB17: Descoped
B18: Weaponary | C18: 1 | D18: Weaponary_Rifle_Fire_Close | E18: Stand Weapon Fire | F18: N/A | G18: Fire_Rifle_Player/Monster | H18: One Shot | I18: 6 | J18: Mono - 96khz - 24 bit | K18: 0.041666667 | L18: 0.041666667 | M18: 0.083333333 | N18: 0.041666667 | O18: 0.041666667 | P18: =SUM(K18:O18) -> 0.25 | Q18: =SUM(R18:W18) -> 0.25 | R18: 0.010416667 | S18: 0.083333333 | T18: 0.125 | U18: 0.010416667 | W18: 0.020833333 | X18: =SUM(P18-Q18) -> -2.7755576e-17 | Y18: Week 5 | Z18: User 1 | AA18: ALPHA | AB18: Completed
B19: Weaponary | C19: 2 | D19: Weaponary_Rifle_Reload | E19: Dual Layer with Fire with Delay | F19: No | G19: Fire_Rifle_Player | H19: One Shot | I19: 5 | J19: Mono - 96khz - 24 bit | K19: 0.0034722222 | L19: 0.020833333 | M19: 0.083333333 | N19: 0.010416667 | O19: 0.010416667 | P19: =SUM(K19:O19) -> 0.12847222 | Q19: =SUM(R19:W19) -> 0.12847222 | R19: 0.010416667 | S19: 0.020833333 | T19: 0.083333333 | U19: 0.010416667 | W19: 0.0034722222 | X19: =SUM(P19-Q19) -> 0 | Y19: Week 5 | Z19: User 1 | AA19: ALPHA | AB19: Completed
B20: Weaponary | C20: 3 | D20: Weaponary_Rifle_Bullet_Drop_Generic | E20: Dual layer with Fire with Delay | F20: Material type does not work | G20: Fire_Shotgun_Player | H20: One Shot | I20: 10 | J20: Mono - 96khz - 24 bit | K20: 0.0034722222 | L20: 0.010416667 | M20: 0.020833333 | N20: 0.0034722222 | O20: 0.0034722222 | P20: =SUM(K20:O20) -> 0.041666667 | Q20: =SUM(R20:W20) -> 0.041666667 | R20: 0 | S20: 0.0069444444 | T20: 0.013888889 | U20: 0.010416667 | W20: 0.010416667 | X20: =SUM(P20-Q20) -> 6.9388939e-18 | Y20: Week 8 | Z20: User 1 | AA20: ALPHA | AB20: Completed
B21: Projectiles | C21: 4 | D21: Projectile_Rifle_Bullet_Ricochets | E21: Bounce of bullet, Dual Layer to Fire, with random offset delay Problem: will play on fire position. | F21: No (Material does not work) | G21: Fire_Rifle_Player | H21: One Shot | I21: 10 | J21: Mono - 96khz - 24 bit | P21: =SUM(K21:O21) -> 0 | Q21: =SUM(R21:W21) -> 0 | X21: =SUM(P21-Q21) -> 0 | AB21: Descoped
B22: Weaponary | C22: 1 | D22: Weaponary_RocketLauncher_Fire_Close | E22: Standard weapon fire, explosive | F22: N/A | G22: Fire_Rocket_Player | H22: One Shot | I22: 5 | J22: Mono - 96khz - 24 bit | P22: =SUM(K22:O22) -> 0 | Q22: =SUM(R22:W22) -> 0 | X22: =SUM(P22-Q22) -> 0 | AB22: Descoped
B23: Weaponary | C23: 2 | D23: Weaponary_RocketLauncher_Barrell_Turn | E23: Dual Layer with Fire, no delay | F23: N/A | G23: Fire_Rocket_Player | H23: One Shot | I23: 5 | J23: Mono - 96khz - 24 bit | K23: 0.0034722222 | L23: 0.041666667 | M23: 0.041666667 | N23: 0.0034722222 | O23: 0.010416667 | P23: =SUM(K23:O23) -> 0.10069444 | Q23: =SUM(R23:W23) -> 0.10069444 | R23: 0.0069444444 | S23: 0.017361111 | T23: 0.052083333 | U23: 0.010416667 | W23: 0.013888889 | X23: =SUM(P23-Q23) -> 0 | Y23: Week 5 | Z23: User 1 | AA23: ALPHA | AB23: Completed
B24: Weaponary | C24: 3 | D24: Weaponary_RocketLauncher_Fizz | E24: Dual Layer with Fire, Delay after fire | F24: N/A | G24: Fire_Rocket_Player | H24: One Shot | I24: 5 | J24: Mono - 96khz - 24 bit | K24: 0.0034722222 | L24: 0.020833333 | M24: 0.041666667 | N24: 0.0034722222 | O24: 0.010416667 | P24: =SUM(K24:O24) -> 0.079861111 | Q24: =SUM(R24:W24) -> 0.079861111 | R24: 0.0069444444 | S24: 0.010416667 | T24: 0.052083333 | U24: 0.0034722222 | W24: 0.0069444444 | X24: =SUM(P24-Q24) -> -1.3877788e-17 | Y24: Week 5 | Z24: User 1 | AA24: ALPHA | AB24: Completed
B25: Weaponary | C25: 4 | D25: Weaponary_RocketLauncher_Fire_Far | E25: Far Version, blend, Batch same EQ filter | F25: N/A | G25: Fire_Rocket_Player | H25: One Shot | I25: 3 | J25: Mono - 96khz - 24 bit | P25: =SUM(K25:O25) -> 0 | X25: =SUM(P25-Q25) -> 0 | AB25: Descoped
B26: Projectiles | C26: 1 | D26: Projectile_Rocket_Inflight | E26: Dual Layer to fire to Start | F26: N/A | G26: Fire_Rocket_Player End_Rocket_Player | H26: One Shot | I26: 3 | J26: Mono - 96khz - 24 bit | K26: 0.0034722222 | L26: 0.020833333 | M26: 0.0625 | N26: 0.013888889 | O26: 0.010416667 | P26: =SUM(K26:O26) -> 0.11111111 | Q26: =SUM(R26:W26) -> 0.11111111 | R26: 0.0069444444 | S26: 0.013888889 | T26: 0.052083333 | U26: 0.010416667 | V26: 0.020833333 | W26: 0.0069444444 | X26: =SUM(P26-Q26) -> 0 | Y26: Week 5 | Z26: User 1 | AA26: ALPHA | AB26: Completed
B27: Projectiles | C27: 1 | D27: Projectile_Rocket_Impact_Close | E27: Explosion | F27: No (Material Switch does not work) | G27: Player | H27: One Shot | I27: 3 | J27: Mono - 96khz - 24 bit | K27: 0.0034722222 | L27: 0.010416667 | M27: 0.083333333 | N27: 0.010416667 | O27: 0.0034722222 | P27: =SUM(K27:O27) -> 0.11111111 | Q27: =SUM(R27:W27) -> 0.11111111 | R27: 0.0069444444 | S27: 0.010416667 | T27: 0.052083333 | U27: 0.010416667 | V27: 0.020833333 | W27: 0.010416667 | X27: =SUM(P27-Q27) -> -1.3877788e-17 | Y27: Week 5 | Z27: User 1 | AA27: ALPHA | AB27: Completed
B28: Projectiles | C28: 1 | D28: Projectile_Rocket_Impact_Far | E28: Explosion | F28: No (Material Switch does not work) | G28: Player | H28: One Shot | I28: 3 | J28: Mono - 96khz - 24 bit | K28: 0.0034722222 | L28: 0.010416667 | M28: 0.0625 | N28: 0.010416667 | O28: 0.010416667 | P28: =SUM(K28:O28) -> 0.097222222 | Q28: =SUM(R28:W28) -> 0.097222222 | R28: 0.0069444444 | S28: 0.010416667 | T28: 0.052083333 | U28: 0.010416667 | W28: 0.017361111 | X28: =SUM(P28-Q28) -> 0 | Y28: Week 5 | Z28: User 1 | AA28: ALPHA | AB28: Completed
B29: Projectiles | C29: 1 | D29: Projectile_Rocket_Impact_Debris | E29: Explosion | F29: No (Material Switch does not work) | G29: Player | H29: One Shot | I29: 3 | J29: Mono - 96khz - 24 bit | K29: 0.0034722222 | L29: 0 | M29: 0.083333333 | N29: 0.0034722222 | O29: 0.0034722222 | P29: =SUM(K29:O29) -> 0.09375 | Q29: =SUM(R29:W29) -> 0.09375 | R29: 0.0069444444 | S29: 0.010416667 | T29: 0.052083333 | U29: 0.010416667 | W29: 0.013888889 | X29: =SUM(P29-Q29) -> 0 | Y29: Week 5 | Z29: User 1 | AA29: ALPHA | AB29: Completed
B30: Weaponary | C30: 1 | D30: Weaponary_Rifle_Fire_Far | E30: Far Version, blend, Batch same EQ filter | F30: N/A | G30: Fire_Rifle_Monster/Player | H30: One Shot | I30: 3 | J30: Mono - 96khz - 24 bit | P30: =SUM(K30:O30) -> 0 | Q30: =SUM(R30:W30) -> 0 | X30: =SUM(P30-Q30) -> 0 | AB30: Descoped
B31: Weaponary | C31: 3 | D31: Weaponary_Shield_Metal_Drop_Rest_All_Surfaces | E31: Teeth, slobber (also used for Flesh) | F31: No (Material Switch does not exist) | G31: Fire_Bite_Monster | H31: One Shot | I31: 10 | J31: Mono - 96khz - 24 bit | K31: 0.013888889 | L31: 0.0625 | M31: 0.125 | N31: 0.013888889 | O31: 0.013888889 | P31: =SUM(K31:O31) -> 0.22916667 | Q31: =SUM(R31:W31) -> 0.22916667 | R31: 0.010416667 | S31: 0.0625 | T31: 0.125 | U31: 0.013888889 | W31: 0.017361111 | X31: =SUM(P31-Q31) -> 0 | Y31: Week 10 | Z31: User 1 | AA31: ALPHA | AB31: Completed
B32: Weaponary | C32: 4 | D32: Weaponary_Shield_Metal_Drop_Bounce_All_Surfaces | E32: Teeth, slobber (also used for Flesh) | F32: No (Material Switch does not exist) | G32: Fire_Bite_Monster | H32: One Shot | I32: 10 | J32: Mono - 96khz - 24 bit | P32: =SUM(K32:O32) -> 0 | Q32: =SUM(R32:W32) -> 0 | X32: =SUM(P32-Q32) -> 0 | AB32: Descoped
B33: Weaponary | C33: 1 | D33: Weaponary_Punch_Generic | E33: Avoid Overly slappy, more thump. Investigate armour impacts? | F33: No (Material Switch does not work) | G33: Fire_Fist_Player | H33: One Shot | I33: 10 | J33: Mono - 96khz - 24 bit | K33: 0.0034722222 | L33: 0.020833333 | M33: 0.041666667 | N33: 0.010416667 | O33: 0.010416667 | P33: =SUM(K33:O33) -> 0.086805556 | Q33: =SUM(R33:W33) -> 0.086805556 | R33: 0.010416667 | S33: 0.020833333 | T33: 0.041666667 | U33: 0.010416667 | W33: 0.0034722222 | X33: =SUM(P33-Q33) -> 0 | Y33: Week 4 | Z33: User 1 | AA33: ALPHA | AB33: Completed
B34: Weaponary | C34: 4 | D34: Weaponary_Punch_Armour_Metal_Plate | E34: Thump onto plate armour. Investigate armour impacts? | F34: No (Material Switch does not work) | G34: Fire_Fist_Player | H34: One Shot | I34: 10 | J34: Mono - 96khz - 24 bit | P34: =SUM(K34:O34) -> 0 | Q34: =SUM(R34:W34) -> 0 | X34: =SUM(P34-Q34) -> 0 | AB34: Descoped
B35: Weaponary | C35: 4 | D35: Weaponary_Punch_Armour_Leather | E35: Thump onto leather armour Investigate armour impacts? | F35: No (Material Switch does not work) | G35: Fire_Fist_Player | H35: One Shot | I35: 10 | J35: Mono - 96khz - 24 bit | P35: =SUM(K35:O35) -> 0 | Q35: =SUM(R35:W35) -> 0 | X35: =SUM(P35-Q35) -> 0 | AB35: Descoped
B36: Weaponary | C36: 4 | D36: Weaponary_Punch_Armour_Flesh | E36: Slap focus. Investigate armour impacts? | F36: No (Material Switch does not work) | G36: Fire_Fist_Player | H36: One Shot | I36: 10 | J36: Mono - 96khz - 24 bit | P36: =SUM(K36:O36) -> 0 | Q36: =SUM(R36:W36) -> 0 | X36: =SUM(P36-Q36) -> 0 | AB36: Descoped
B37: Weaponary | C37: 1 | D37: Weaponary_Bite_Generic | E37: Teeth, slobber (also used for Flesh) | F37: No (Material Switch does not exist) | G37: Fire_Bite_Monster | H37: One Shot | I37: 10 | J37: Mono - 96khz - 24 bit | K37: 0.010416667 | L37: 0.020833333 | M37: 0.041666667 | N37: 0.010416667 | O37: 0.010416667 | P37: =SUM(K37:O37) -> 0.09375 | Q37: =SUM(R37:W37) -> 0.09375 | R37: 0.0069444444 | S37: 0.020833333 | T37: 0.041666667 | U37: 0.0069444444 | W37: 0.017361111 | X37: =SUM(P37-Q37) -> 0 | Y37: Week 8 | Z37: User 1 | AA37: ALPHA | AB37: Completed
B38: Weaponary | C38: 4 | D38: Weaponary_Bite_Armor_Metal_Plate | E38: Teeth, slobber, plate armor element Possibly due layer foley with generic bite | F38: No (Material Switch does not exist) | G38: Fire_Bite_Monster | H38: One Shot | I38: 5 | J38: Mono - 96khz - 24 bit | P38: =SUM(K38:O38) -> 0 | Q38: =SUM(R38:W38) -> 0 | X38: =SUM(P38-Q38) -> 0 | AB38: Descoped
B39: Weaponary | C39: 4 | D39: Weaponary_Bite_Armor_Leather | E39: Teeth, slobber, plate armour element Possibly due layer foley with generic bite | F39: No (Material Switch does not exist) | G39: Fire_Bite_Monster | H39: One Shot | I39: 5 | J39: Mono - 96khz - 24 bit | P39: =SUM(K39:O39) -> 0 | Q39: =SUM(R39:W39) -> 0 | X39: =SUM(P39-Q39) -> 0 | AB39: Descoped
B40: Magic | C40: 1 | D40: Magic_Rocket_Fire | E40: Reuse Projectile rocket launcher content | F40: N/A | G40: Fire_Fireball_Monster/Player | H40: One Shot | I40: 3 | J40: Mono - 96khz - 24 bit | P40: =SUM(K40:O40) -> 0 | Q40: =SUM(R40:W40) -> 0 | X40: =SUM(P40-Q40) -> 0 | AB40: Descoped
B41: Magic | C41: 1 | D41: Magic_Rocket_Inflight | E41: Reuse Projectile rocket launcher content Start Dual layer to Fire, Stop Use End event | F41: N/A | G41: Fire_Fireball_Monster/Player End_Fireball_Monster/Player | H41: One Shot | I41: 3 | J41: Mono - 96khz - 24 bit | K41: 0.010416667 | L41: 0 | M41: 0 | N41: 0.010416667 | O41: 0.010416667 | P41: =SUM(K41:O41) -> 0.03125 | Q41: =SUM(R41:W41) -> 0.03125 | R41: 0.0069444444 | S41: 0 | T41: 0 | U41: 0.013888889 | W41: 0.010416667 | X41: =SUM(P41-Q41) -> 0 | Y41: Week 5 | Z41: User 1 | AA41: ALPHA | AB41: Completed
...

Sheet Variables
B3: Area Type | C3: Format | D3: Status | E3: Content Owner | F3: Date | G3: Priority | H3: Milestone
B4: Pending | C4: Pending | D4: Pending | E4: Pending | F4: Pending | G4: Pending | H4: Pending
B5: Environment | C5: Stereo - 44.1khz - 16 bit | D5: In Progress | E5: User 1 | F5: Week 1 | G5: 1 | H5: Pre-Production
B6: Elements | C6: Stereo - 96khz - 24 bit | D6: Completed | E6: User 2 | F6: Week 2 | G6: 2 | H6: ALPHA
B7: Weaponary | C7: Mono - 44.1khz - 16 bit | D7: Blocked | E7: User 3 | F7: Week 3 | G7: 3 | H7: BETA
B8: Projectiles | C8: Mono - 96khz - 24 bit | D8: Descoped | E8: User 4 | F8: Week 4 | G8: 4 | H8: FINAL
B9: Armour | D9: Rework | F9: Week 5
B10: Footstep | F10: Week 6
B11: Bodyfall | F11: Week 7
B12: Vocalisation | F12: Week 8
B13: UI | F13: Week 9
B14: Music | F14: Week 10
B15: Dialogue | F15: Week 11
B16: Magic | F16: Week 12
B17: Misc | F17: Week 13
B18: Trailer | F18: Week 14
B19: Data | F19: Week 15
B20: TEST | F20: Week 16
F21: Week 17
F22: Week 18
F23: Week 19
F24: Week 20
