Workbook

Sheet Overview
B2: Content Status Master Overview: CUBE
B3: Area Type | C3: Status | D3: % Completed | E3: Total Time Needed | F3: Total Time Completed | G3: Total Time Remaining | H3: Content Owner
B4: Environment | C4: Completed | D4: =SUM(F4/E4) -> 1 | E4: =SUMIF(Content!B5:B561,B4,Content!P5:P561) -> 2.3125 | F4: =SUMIF(Content!B5:B561,B4,Content!Q5:Q561) -> 2.3125 | G4: =SUMIF(Content!B5:B561,B4,Content!X5:X561) -> -1.8735014e-16 | H4: User 1 | J4: Milestones
J5: Project Start | K5: 41670
B6: Elements | C6: Completed | D6: =SUM(F6/E6) -> 1 | E6: =SUMIF(Content!B5:B561,B6,Content!P5:P561) -> 0.57638889 | F6: =SUMIF(Content!B5:B561,B6,Content!Q5:Q561) -> 0.57638889 | G6: =SUMIF(Content!B6:B561,B6,Content!AA5:AA46) -> 0 | H6: User 1
J7: ALPHA | K7: 41768
B8: Weaponary | C8: Completed | D8: =SUM(F8/E8) -> 1 | E8: =SUMIF(Content!B5:B551,B8,Content!P5:P551) -> 2.0347222 | F8: =SUMIF(Content!B5:B551,B8,Content!Q5:Q551) -> 2.0347222 | G8: =SUMIF(Content!B5:B551,B8,Content!X5:X551) -> -9.0205621e-17 | H8: User 1 | J8: =IF(TODAY()>=K7,"Done",CONCATENATE(K7-TODAY(),"")) -> Done | K8: =SUM(J8-G40) -> #VALUE!
J9: BETA | K9: 41782
B10: Projectiles | C10: Completed | D10: =SUM(F10/E10) -> 1 | E10: =SUMIF(Content!B5:B551,B10,Content!P5:P551) -> 0.41319444 | F10: =SUMIF(Content!B5:B551,B10,Content!Q5:Q551) -> 0.41319444 | G10: =SUMIF(Content!B5:B551,B10,Content!X5:X551) -> -1.3877788e-17 | H10: User 1 | J10: =IF(TODAY()>=K9,"Done",CONCATENATE(K9-TODAY(),"")) -> Done | K10: =SUM(J10-G40) -> #VALUE!
J11: FINAL | K11: 41793
B12: Armour | C12: Completed | D12: =SUM(F12/E12) -> 1 | E12: =SUMIF(Content!B5:B551,B12,Content!P5:P551) -> 0.49305556 | F12: =SUMIF(Content!B5:B551,B12,Content!Q5:Q551) -> 0.49305556 | G12: =SUMIF(Content!B5:B551,B12,Content!X5:X551) -> -4.1633363e-17 | H12: User 1 | J12: =IF(TODAY()>=K11,"Done",CONCATENATE(K11-TODAY(),"")) -> Done | K12: =SUM(J12-G40) -> #VALUE!
J13: Wwise Lic | K13: 41820
B14: Footstep | C14: Completed | D14: =SUM(F14/E14) -> 1 | E14: =SUMIF(Content!B5:B551,B14,Content!P5:P551) -> 4.1423611 | F14: =SUMIF(Content!B5:B551,B14,Content!Q5:Q551) -> 4.1423611 | G14: =SUMIF(Content!B5:B551,B14,Content!X5:X551) -> -6.5225603e-16 | H14: User 1 | J14: =IF(TODAY()>=K13,"Done",CONCATENATE(K13-TODAY(),"")) -> Done | K14: =SUM(J14-G40) -> #VALUE!
J15: Game Release | K15: 41820
B16: Bodyfall | C16: Completed | D16: =SUM(F16/E16) -> 1 | E16: =SUMIF(Content!B5:B551,B16,Content!P5:P551) -> 4.2222222 | F16: =SUMIF(Content!B5:B551,B16,Content!Q5:Q551) -> 4.2222222 | G16: =SUMIF(Content!B5:B551,B16,Content!X5:X551) -> 3.8163916e-17 | H16: User 1 | J16: =IF(TODAY()>=K15,"Done",CONCATENATE(K15-TODAY(),"")) -> Done | K16: =SUM(J16-G40) -> #VALUE!
B18: Vocalisation | C18: Completed | D18: =SUM(F18/E18) -> 1 | E18: =SUMIF(Content!B5:B551,B18,Content!P5:P551) -> 4.3472222 | F18: =SUMIF(Content!B5:B551,B18,Content!Q5:Q551) -> 4.3472222 | G18: =SUMIF(Content!B5:B551,B18,Content!X5:X551) -> 1.110223e-16 | H18: User 1
B20: UI | C20: Completed | D20: =SUM(F20/E20) -> 1 | E20: =SUMIF(Content!B5:B551,B20,Content!P5:P551) -> 0.97222222 | F20: =SUMIF(Content!B5:B551,B20,Content!Q5:Q551) -> 0.97222222 | G20: =SUMIF(Content!B5:B551,B20,Content!X5:X551) -> 1.3877788e-17 | H20: User 1
B22: Dialogue | C22: Completed | D22: =SUM(F22/E22) -> 1 | E22: =SUMIF(Content!B7:B553,B22,Content!P7:P553) -> 0.65625 | F22: =SUMIF(Content!B7:B553,B22,Content!Q7:Q553) -> 0.65625 | G22: =SUMIF(Content!B7:B553,B22,Content!X7:X553) -> 4.1633363e-17 | H22: User 1
B24: Music | C24: Completed | D24: =SUM(F24/E24) -> 1 | E24: =SUMIF(Content!B5:B551,B24,Content!P5:P551) -> 2.5416667 | F24: =SUMIF(Content!B5:B551,B24,Content!Q5:Q551) -> 2.5416667 | G24: =SUMIF(Content!B5:B551,B24,Content!X5:X551) -> 3.6082248e-16 | H24: User 1
B26: Magic | C26: In Progress | D26: =SUM(F26/E26) -> 1 | E26: =SUMIF(Content!B5:B551,B26,Content!P5:P551) -> 0.80902778 | F26: =SUMIF(Content!B5:B551,B26,Content!Q5:Q551) -> 0.80902778 | G26: =SUMIF(Content!B5:B551,B26,Content!X5:X551) -> 1.3877788e-17 | H26: User 1
B28: Misc | C28: In Progress | D28: =SUM(F28/E28) -> 1 | E28: =SUMIF(Content!B5:B551,B28,Content!P5:P551) -> 15.895833 | F28: =SUMIF(Content!B5:B551,B28,Content!Q5:Q551) -> 15.895833 | G28: =SUMIF(Content!B5:B551,B28,Content!X5:X551) -> 2.4980018e-16 | H28: User 1
B30: Trailer | C30: Pending | D30: =SUM(F30/E30) -> 1 | E30: =SUMIF(Content!B7:B553,B30,Content!P7:P553) -> 1.6666667 | F30: =SUMIF(Content!B7:B553,B30,Content!Q7:Q553) -> 1.6666667 | G30: =SUMIF(Content!B7:B553,B30,Content!X7:X553) -> 5.5511151e-17 | H30: User 1
B32: Data | C32: Completed | D32: =SUM(F32/E32) -> 1 | E32: =SUMIF(Content!B9:B555,B32,Content!P9:P555) -> 2.8333333 | F32: =SUMIF(Content!B9:B555,B32,Content!Q9:Q555) -> 2.8333333 | G32: =SUMIF(Content!B9:B555,B32,Content!X9:X555) -> -5.5511151e-17 | H32: User 1
B34: TEST | C34: In Progress | D34: =SUM(F34/E34) -> 0 | E34: =SUMIF(Content!B11:B557,B34,Content!P11:P557) -> 0.33333333 | F34: =SUMIF(Content!B11:B557,B34,Content!Q11:Q557) -> 0 | G34: =SUMIF(Content!B11:B557,B34,Content!X11:X557) -> 0.33333333 | H34: User 1
D36: Project % Completed | E36: Project Total Time | F36: Time Completed | G36: Time Remaining | H36: Weekly User Hours Available
H37: User 1 | I37: User 2 | J37: User 3 | K37: User 4
B38: Totals | C38: Hours | D38: =AVERAGE(D4,D6,D8,D10,D12,D14,D16,D18,D20,D22,D24,D26,D28,D30,D32,D34) -> 0.9375 | E38: =SUM(E4,E6,E8,E10,E12,E14,E18,E20,E24,E28,E26,E22,E16,E18,E30,E32,E34) -> 48.597222 | F38: =SUM(F4,F6,F8,F10,F12,F14,F18,F20,F24,F28,F26,F22,F16,F30,F32,F34) -> 43.916667 | G38: =SUM(G4,G6,G8,G10,G12,G14,G18,G20,G16,G24,G28,G22,G26,G30,G32,G34) -> 0.33333333 | H38: 2.5 | I38: 0 | J38: 0 | K38: 0
C39: Weeks | E39: =E38/H38 -> 19.438889 | F39: =F38/H38 -> 17.566667 | G39: =G38/H38 -> 0.13333333
C40: Days | E40: =SUM(E39/10*60) -> 116.63333 | F40: =SUM(F39/10*60) -> 105.4 | G40: =SUM(G39/10*60) -> 0.8

Sheet Schedule
B2: Schedule: CUBE
B4: User 1 | H4: =Variables!E6 -> User 2 | N4: =Variables!E7 -> User 3 | T4: =Variables!E8 -> User 4
B5: Date | C5: Available Hours | D5: Task Hours Assigned | E5: Task Hours Outstanding | F5: Hours Over or Under | H5: Date | I5: Available Hours | J5: Task Hours Assigned | K5: Task Hours Outstanding | L5: Hours Over or Under | N5: Date | O5: Available Hours | P5: Task Hours Assigned | Q5: Task Hours Outstanding | R5: Hours Over or Under | T5: Date | U5: Available Hours | V5: Task Hours Assigned | W5: Task Hours Outstanding | X5: Hours Over or Under
B6: Week 1 | C6: =Overview!H38 -> 2.5 | D6: =SUMIFS(Content!P5:P551,Content!Z5:Z551,Schedule!B4,Content!Y5:Y551,Schedule!B6) -> 2.7881944 | E6: =SUMIFS(Content!X5:X551,Content!Z5:Z551,Schedule!B4,Content!Y5:Y551,Schedule!B6) -> -3.0531133e-16 | F6: =SUM(C6-D6) -> -0.28819444 | H6: Week 1 | I6: =Overview!I38 -> 0 | J6: =SUMIFS(Content!P5:P551,Content!Z5:Z551,Schedule!H4,Content!Y5:Y551,Schedule!H6) -> 0 | L6: =SUM(I6-J6) -> 0 | N6: Week 1 | O6: =Overview!J38 -> 0 | P6: =SUMIFS(Content!P5:P551,Content!Z5:Z551,Schedule!N4,Content!Y5:Y551,Schedule!N6) -> 0 | R6: =SUM(O6-P6) -> 0 | T6: Week 1 | U6: =Overview!K38 -> 0 | V6: =SUMIFS(Content!P5:P551,Content!Z5:Z551,Schedule!T4,Content!Y5:Y551,Schedule!T6) -> 0 | X6: =SUM(U6-V6) -> 0
B7: Week 2 | C7: =Overview!H38 -> 2.5 | D7: =SUMIFS(Content!P5:P551,Content!Z5:Z551,Schedule!B4,Content!Y5:Y551,Schedule!B7) -> 2.6597222 | E7: =SUMIFS(Content!X5:X551,Content!Z5:Z551,Schedule!B4,Content!Y5:Y551,Schedule!B7) -> -8.3266727e-17 | F7: =SUM(C7-D7) -> -0.15972222 | H7: Week 2 | I7: =Overview!I38 -> 0 | J7: =SUMIFS(Content!P5:P551,Content!Z5:Z551,Schedule!H4,Content!Y5:Y551,Schedule!H7) -> 0 | L7: =SUM(I7-J7) -> 0 | N7: Week 2 | O7: =Overview!J38 -> 0 | P7: =SUMIFS(Content!P5:P551,Content!Z5:Z551,Schedule!N4,Content!Y5:Y551,Schedule!N7) -> 0 | R7: =SUM(O7-P7) -> 0 | T7: Week 2 | U7: =Overview!K38 -> 0 | V7: =SUMIFS(Content!P5:P551,Content!Z5:Z551,Schedule!T4,Content!Y5:Y551,Schedule!T7) -> 0 | X7: =SUM(U7-V7) -> 0
B8: Week 3 | C8: 2.0833333 | D8: =SUMIFS(Content!P5:P551,Content!Z5:Z551,Schedule!B4,Content!Y5:Y551,Schedule!B8) -> 2.0798611 | E8: =SUMIFS(Content!X5:X551,Content!Z5:Z551,Schedule!B4,Content!Y5:Y551,Schedule!B8) -> 5.5511151e-17 | F8: =SUM(C8-D8) -> 0.0034722222 | H8: Week 3 | I8: =Overview!I38 -> 0 | J8: =SUMIFS(Content!P5:P551,Content!Z5:Z551,Schedule!H4,Content!Y5:Y551,Schedule!H8) -> 0 | L8: =SUM(I8-J8) -> 0 | N8: Week 3 | O8: =Overview!J38 -> 0 | P8: =SUMIFS(Content!P5:P551,Content!Z5:Z551,Schedule!N4,Content!Y5:Y551,Schedule!N8) -> 0 | R8: =SUM(O8-P8) -> 0 | T8: Week 3 | U8: =Overview!K38 -> 0 | V8: =SUMIFS(Content!P5:P551,Content!Z5:Z551,Schedule!T4,Content!Y5:Y551,Schedule!T8) -> 0 | X8: =SUM(U8-V8) -> 0
B9: Week 4 | C9: =Overview!H38 -> 2.5 | D9: =SUMIFS(Content!P5:P551,Content!Z5:Z551,Schedule!B4,Content!Y5:Y551,Schedule!B9) -> 2.1805556 | E9: =SUMIFS(Content!X5:X551,Content!Z5:Z551,Schedule!B4,Content!Y5:Y551,Schedule!B9) -> 5.5511151e-17 | F9: =SUM(C9-D9) -> 0.31944444 | H9: Week 4 | I9: =Overview!I38 -> 0 | J9: =SUMIFS(Content!P5:P551,Content!Z5:Z551,Schedule!H4,Content!Y5:Y551,Schedule!H9) -> 0 | L9: =SUM(I9-J9) -> 0 | N9: Week 4 | O9: =Overview!J38 -> 0 | P9: =SUMIFS(Content!P5:P551,Content!Z5:Z551,Schedule!N4,Content!Y5:Y551,Schedule!N9) -> 0 | R9: =SUM(O9-P9) -> 0 | T9: Week 4 | U9: =Overview!K38 -> 0 | V9: =SUMIFS(Content!P5:P551,Content!Z5:Z551,Schedule!T4,Content!Y5:Y551,Schedule!T9) -> 0 | X9: =SUM(U9-V9) -> 0
B10: Week 5 | C10: =Overview!H38 -> 2.5 | D10: =SUMIFS(Content!P5:P551,Content!Z5:Z551,Schedule!B4,Content!Y5:Y551,Schedule!B10) -> 2.4756944 | E10: =SUMIFS(Content!X5:X551,Content!Z5:Z551,Schedule!B4,Content!Y5:Y551,Schedule!B10) -> -6.9388939e-17 | F10: =SUM(C10-D10) -> 0.024305556 | H10: Week 5 | I10: =Overview!I38 -> 0 | J10: =SUMIFS(Content!P5:P551,Content!Z5:Z551,Schedule!H4,Content!Y5:Y551,Schedule!H10) -> 0 | L10: =SUM(I10-J10) -> 0 | N10: Week 5 | O10: =Overview!J38 -> 0 | P10: =SUMIFS(Content!P5:P551,Content!Z5:Z551,Schedule!N4,Content!Y5:Y551,Schedule!N10) -> 0 | R10: =SUM(O10-P10) -> 0 | T10: Week 5 | U10: =Overview!K38 -> 0 | V10: =SUMIFS(Content!P5:P551,Content!Z5:Z551,Schedule!T4,Content!Y5:Y551,Schedule!T10) -> 0 | X10: =SUM(U10-V10) -> 0
B11: Week 6 | C11: =Overview!H38 -> 2.5 | D11: =SUMIFS(Content!P5:P551,Content!Z5:Z551,Schedule!B4,Content!Y5:Y551,Schedule!B11) -> 2.53125 | E11: =SUMIFS(Content!X5:X551,Content!Z5:Z551,Schedule!B4,Content!Y5:Y551,Schedule!B11) -> -1.3877788e-17 | F11: =SUM(C11-D11) -> -0.03125 | H11: Week 6 | I11: =Overview!I38 -> 0 | J11: =SUMIFS(Content!P5:P551,Content!Z5:Z551,Schedule!H4,Content!Y5:Y551,Schedule!H11) -> 0 | L11: =SUM(I11-J11) -> 0 | N11: Week 6 | O11: =Overview!J38 -> 0 | P11: =SUMIFS(Content!P5:P551,Content!Z5:Z551,Schedule!N4,Content!Y5:Y551,Schedule!N11) -> 0 | R11: =SUM(O11-P11) -> 0 | T11: Week 6 | U11: =Overview!K38 -> 0 | V11: =SUMIFS(Content!P5:P551,Content!Z5:Z551,Schedule!T4,Content!Y5:Y551,Schedule!T11) -> 0 | X11: =SUM(U11-V11) -> 0
B12: Week 7 | C12: =Overview!H38 -> 2.5 | D12: =SUMIFS(Content!P5:P551,Content!Z5:Z551,Schedule!B4,Content!Y5:Y551,Schedule!B12) -> 2.5416667 | E12: =SUMIFS(Content!X5:X551,Content!Z5:Z551,Schedule!B4,Content!Y5:Y551,Schedule!B12) -> -2.7755576e-16 | F12: =SUM(C12-D12) -> -0.041666667
B13: Week 8 | C13: =Overview!H38 -> 2.5 | D13: =SUMIFS(Content!P5:P551,Content!Z5:Z551,Schedule!B4,Content!Y5:Y551,Schedule!B13) -> 2.7256944 | E13: =SUMIFS(Content!X5:X551,Content!Z5:Z551,Schedule!B4,Content!Y5:Y551,Schedule!B13) -> 6.2450045e-17 | F13: =SUM(C13-D13) -> -0.22569444
B14: Week 9 | C14: =Overview!H38 -> 2.5 | D14: =SUMIFS(Content!P5:P551,Content!Z5:Z551,Schedule!B4,Content!Y5:Y551,Schedule!B14) -> 2.3819444 | E14: =SUMIFS(Content!X5:X551,Content!Z5:Z551,Schedule!B4,Content!Y5:Y551,Schedule!B14) -> 2.7755576e-17 | F14: =SUM(C14-D14) -> 0.11805556
B15: Week 10 | C15: 2.0833333 | D15: =SUMIFS(Content!P5:P551,Content!Z5:Z551,Schedule!B4,Content!Y5:Y551,Schedule!B15) -> 1.9166667 | E15: =SUMIFS(Content!X5:X551,Content!Z5:Z551,Schedule!B4,Content!Y5:Y551,Schedule!B15) -> -3.469447e-18 | F15: =SUM(C15-D15) -> 0.16666667
B16: Week 11 | C16: 2.0833333 | D16: =SUMIFS(Content!P5:P551,Content!Z5:Z551,Schedule!B4,Content!Y5:Y551,Schedule!B16) -> 1.9930556 | E16: =SUMIFS(Content!X5:X551,Content!Z5:Z551,Schedule!B4,Content!Y5:Y551,Schedule!B16) -> -6.9388939e-18 | F16: =SUM(C16-D16) -> 0.090277778
B17: Week 12 | C17: 2.0833333 | D17: =SUMIFS(Content!P5:P551,Content!Z5:Z551,Schedule!B4,Content!Y5:Y551,Schedule!B17) -> 1.4340278 | E17: =SUMIFS(Content!X5:X551,Content!Z5:Z551,Schedule!B4,Content!Y5:Y551,Schedule!B17) -> -9.0205621e-17 | F17: =SUM(C17-D17) -> 0.64930556
B18: Week 13 | C18: 2.0833333 | D18: =SUMIFS(Content!P5:P551,Content!Z5:Z551,Schedule!B4,Content!Y5:Y551,Schedule!B18) -> 2.4583333 | E18: =SUMIFS(Content!X5:X551,Content!Z5:Z551,Schedule!B4,Content!Y5:Y551,Schedule!B18) -> 4.4408921e-16 | F18: =SUM(C18-D18) -> -0.375
B19: Week 14 | C19: 2.0833333 | D19: =SUMIFS(Content!P5:P551,Content!Z5:Z551,Schedule!B4,Content!Y5:Y551,Schedule!B19) -> 2.0833333 | E19: =SUMIFS(Content!X5:X551,Content!Z5:Z551,Schedule!B4,Content!Y5:Y551,Schedule!B19) -> 5.5511151e-17 | F19: =SUM(C19-D19) -> 0
B20: Week 15 | C20: 2.0833333 | D20: =SUMIFS(Content!P5:P551,Content!Z5:Z551,Schedule!B4,Content!Y5:Y551,Schedule!B20) -> 2 | E20: =SUMIFS(Content!X5:X551,Content!Z5:Z551,Schedule!B4,Content!Y5:Y551,Schedule!B20) -> 0.33333333 | F20: =SUM(C20-D20) -> 0.083333333
B21: Week 16 | C21: 2.0833333 | D21: =SUMIFS(Content!P5:P551,Content!Z5:Z551,Schedule!B4,Content!Y5:Y551,Schedule!B21) -> 2.0833333 | E21: =SUMIFS(Content!X5:X551,Content!Z5:Z551,Schedule!B4,Content!Y5:Y551,Schedule!B21) -> 0 | F21: =SUM(C21-D21) -> 0
B22: Week 17 | C22: 2.0833333 | D22: =SUMIFS(Content!P5:P551,Content!Z5:Z551,Schedule!B4,Content!Y5:Y551,Schedule!B22) -> 2.0833333 | E22: =SUMIFS(Content!X5:X551,Content!Z5:Z551,Schedule!B4,Content!Y5:Y551,Schedule!B22) -> 0 | F22: =SUM(C22-D22) -> 0
B23: Week 18 | C23: 2.0833333 | D23: =SUMIFS(Content!P5:P551,Content!Z5:Z551,Schedule!B4,Content!Y5:Y551,Schedule!B23) -> 2.0833333 | E23: =SUMIFS(Content!X5:X551,Content!Z5:Z551,Schedule!B4,Content!Y5:Y551,Schedule!B23) -> 0 | F23: =SUM(C23-D23) -> 0
B24: Week 19 | C24: 2.0833333 | D24: =SUMIFS(Content!P5:P551,Content!Z5:Z551,Schedule!B4,Content!Y5:Y551,Schedule!B24) -> 2.0833333 | E24: =SUMIFS(Content!X5:X551,Content!Z5:Z551,Schedule!B4,Content!Y5:Y551,Schedule!B24) -> 0 | F24: =SUM(C24-D24) -> 0
B25: Week 20 | C25: 1.6666667 | D25: =SUMIFS(Content!P5:P551,Content!Z5:Z551,Schedule!B4,Content!Y5:Y551,Schedule!B25) -> 1.6666667 | E25: =SUMIFS(Content!X5:X551,Content!Z5:Z551,Schedule!B4,Content!Y5:Y551,Schedule!B25) -> 5.5511151e-17 | F25: =SUM(C25-D25) -> 0

Sheet Content
B2: Project Asset List: CUBE
B3: Content | K3: Task Time Estimation | Q3: Schedule | AA3: Milestone | AB3: Status
B4: Area Type | C4: Priority | D4: Content Name | E4: Description / Performance Notes | F4: Switch / State | G4: Sound Event Name | H4: Asset Type | I4: Variations Needed | J4: Format | K4: R & D | L4: Recording | M4: Editing | N4: Implement | O4: Mix | P4: Total Time Needed | Q4: Time Completed | R4: R &D | S4: Recording | T4: Editing | U4: Implement | V4: Rework | W4: Mix | X4: Time Remaining | Y4: Date To Be Worked On | Z4: Assigned To | AA4: Milestone | AC4: Comments
B5: Weaponary | C5: 1 | D5: Weaponary_Shotgun_Fire_Close | E5: Standard weapon fire. Dual Layer reload, no delay | F5: N/A | G5: Fire_Shotgun_Player/Monster | H5: One Shot | I5: 6 | J5: Mono - 96khz - 24 bit | K5: 0.041666667 | L5: 0.041666667 | M5: 0.083333333 | N5: 0.041666667 | O5: 0.020833333 | P5: =SUM(K5:O5) -> 0.22916667 | Q5: =SUM(R5:W5) -> 0.22916667 | R5: 0.010416667 | S5: 0.083333333 | T5: 0.10416667 | U5: 0.010416667 | W5: 0.020833333 | X5: =SUM(P5-Q5) -> -2.7755576e-17 | Y5: Week 5 | Z5: User 1 | AA5: ALPHA | AB5: Completed
B6: Weaponary | C6: 3 | D6: Weaponary_Shotgun_Shell_Drop_Generic | E6: Dual layer with Fire with Delay | F6: Material type does not work | G6: Fire_Shotgun_Player | H6: One Shot | I6: 10 | J6: Mono - 96khz - 24 bit | K6: 0.010416667 | L6: 0.020833333 | M6: 0.083333333 | N6: 0.010416667 | O6: 0.010416667 | P6: =SUM(K6:O6) -> 0.13541667 | Q6: =SUM(R6:W6) -> 0.13541667 | R6: 0.010416667 | S6: 0.020833333 | T6: 0.083333333 | U6: 0.010416667 | W6: 0.010416667 | X6: =SUM(P6-Q6) -> 0 | Y6: Week 5 | Z6: User 1 | AA6: ALPHA | AB6: Completed
B7: Weaponary | C7: 2 | D7: Weaponary_Shotgun_Reload_Pump_In | E7: Dual Layer with Fire with Delay | F7: No | G7: Fire_Shotgun_Player | H7: One Shot | I7: 5 | J7: Mono - 96khz - 24 bit | K7: 0.010416667 | L7: 0.020833333 | M7: 0.083333333 | N7: 0.020833333 | O7: 0.010416667 | P7: =SUM(K7:O7) -> 0.14583333 | Q7: =SUM(R7:W7) -> 0.14583333 | R7: 0.010416667 | S7: 0.034722222 | T7: 0.083333333 | U7: 0.010416667 | W7: 0.0069444444 | X7: =SUM(P7-Q7) -> 0 | Y7: Week 5 | Z7: User 1 | AA7: ALPHA | AB7: Completed
B8: Weaponary | C8: 2 | D8: Weaponary_Shotgun_Reload_Pump_Out | E8: Dual Layer with Fire with Delay | F8: No | G8: Fire_Shotgun_Player | H8: One Shot | I8: 5 | J8: Mono - 96khz - 24 bit | K8: 0.010416667 | L8: 0.020833333 | M8: 0.083333333 | N8: 0.020833333 | O8: 0.010416667 | P8: =SUM(K8:O8) -> 0.14583333 | Q8: =SUM(R8:W8) -> 0.14583333 | R8: 0.010416667 | S8: 0.034722222 | T8: 0.083333333 | U8: 0.010416667 | W8: 0.0069444444 | X8: =SUM(P8-Q8) -> 0 | Y8: Week 5 | Z8: User 1 | AA8: ALPHA | AB8: Completed
B9: Weaponary | C9: 4 | D9: Weaponary_Shotgun_Fire_Far | E9: Far Version, blend, Batch same EQ filter | F9: N/A | G9: Fire_Shotgun_Player | H9: One Shot | I9: 3 | J9: Mono - 96khz - 24 bit | P9: =SUM(K9:O9) -> 0 | Q9: =SUM(R9:W9) -> 0 | X9: =SUM(P9-Q9) -> 0 | AB9: Descoped
B10: Weaponary | C10: 4 | D10: Weaponary_Shotgun_Shell_Drop_Hard_Surface | E10: Dual layer with Fire with Delay | F10: Material type does not work | G10: Fire_Shotgun_Player | H10: One Shot | I10: 10 | J10: Mono - 96khz - 24 bit | P10: =SUM(K10:O10) -> 0 | Q10: =SUM(R10:W10) -> 0 | X10: =SUM(P10-Q10) -> 0 | AB10: Descoped
B11: Weaponary | C11: 4 | D11: Weaponary_Shotgun_Shell_Drop_Soft_Surface | E11: Dual layer with Fire with Delay | F11: Material type does not work | G11: Fire_Shotgun_Player | H11: One Shot | I11: 10 | J11: Mono - 96khz - 24 bit | P11: =SUM(K11:O11) -> 0 | Q11: =SUM(R11:W11) -> 0 | X11: =SUM(P11-Q11) -> 0 | AB11: Descoped
B12: Weaponary | C12: 1 | D12: Weaponary_Mini_Gun_Fire_Close | E12: Stand Weapon Fire | F12: N/A | G12: Fire_ChainGun_Monster | H12: One Shot | I12: 6 | J12: Mono - 96khz - 24 bit | K12: 0.010416667 | L12: 0 | M12: 0 | N12: 0.020833333 | O12: 0.020833333 | P12: =SUM(K12:O12) -> 0.052083333 | Q12: =SUM(R12:W12) -> 0.052083333 | R12: 0.010416667 | S12: 0 | T12: 0 | U12: 0.020833333 | W12: 0.020833333 | X12: =SUM(P12-Q12) -> 0 | Y12: Week 5 | Z12: User 1 | AA12: ALPHA | AB12: Completed
B13: Weaponary | C13: 1 | D13: Weaponary_MachineGun_Fire_Close | E13: Stand Weapon Fire | F13: N/A | G13: Fire_ChainGun_Player | H13: One Shot | I13: 6 | J13: Mono - 96khz - 24 bit | K13: 0.020833333 | L13: 0.020833333 | M13: 0.083333333 | N13: 0.03125 | O13: 0.020833333 | P13: =SUM(K13:O13) -> 0.17708333 | Q13: =SUM(R13:W13) -> 0.17708333 | R13: 0.010416667 | S13: 0.041666667 | T13: 0.083333333 | U13: 0.020833333 | W13: 0.020833333 | X13: =SUM(P13-Q13) -> 0 | Y13: Week 5 | Z13: User 1 | AA13: ALPHA | AB13: Completed
B14: Weaponary | C14: 2 | D14: Weaponary_MachineGun_Shell_Drop_Generic | E14: Dual layer with Fire with Delay | F14: Material type does not work | G14: Fire_Rifle_Player | H14: Loop | I14: 10 | J14: Mono - 96khz - 24 bit | K14: 0.0034722222 | L14: 0.020833333 | M14: 0.083333333 | N14: 0.020833333 | O14: 0.010416667 | P14: =SUM(K14:O14) -> 0.13888889 | Q14: =SUM(R14:W14) -> 0.13888889 | R14: 0.010416667 | S14: 0.020833333 | T14: 0.083333333 | U14: 0.010416667 | W14: 0.013888889 | X14: =SUM(P14-Q14) -> -2.7755576e-17 | Y14: Week 5 | Z14: User 1 | AA14: ALPHA | AB14: Completed
B15: Weaponary | C15: 4 | D15: Weaponary_MachineGun_Fire_Far | E15: Far Version, blend, Batch same EQ filter | F15: N/A | G15: Fire_ChainGun_Player | H15: One Shot | I15: 10 | J15: Mono - 96khz - 24 bit | P15: =SUM(K15:O15) -> 0 | Q15: =SUM(R15:W15) -> 0 | X15: =SUM(P15-Q15) -> 0 | AB15: Descoped
B16: Weaponary | C16: 3 | D16: Weaponary_MachineGun_Shell_Drop_Hard_Surface | E16: Dual layer with Fire with Delay | F16: Material type does not work | G16: Fire_Rifle_Player | H16: One Shot | I16: 10 | J16: Mono - 96khz - 24 bit | P16: =SUM(K16:O16) -> 0 | Q16: =SUM(R16:W16) -> 0 | X16: =SUM(P16-Q16) -> 0 | AB16: Descoped
B17: Weaponary | C17: 3 | D17: Weaponary_MachineGun_Shell_Drop_Soft_Surface | E17: Dual layer with Fire with Delay | F17: Material type does not work | G17: Fire_Rifle_Player | H17: One Shot | I17: 10 | J17: Mono - 96khz - 24 bit | P17: =SUM(K17:O17) -> 0 | Q17: =SUM(R17:W17) -> 0 | X17: =SUM(P17-Q17) -> 0 | AB17: Descoped
B18: Weaponary | C18: 1 | D18: Weaponary_Rifle_Fire_Close | E18: Stand Weapon Fire | F18: N/A | G18: Fire_Rifle_Player/Monster | H18: One Shot | I18: 6 | J18: Mono - 96khz - 24 bit | K18: 0.041666667 | L18: 0.041666667 | M18: 0.083333333 | N18: 0.041666667 | O18: 0.041666667 | P18: =SUM(K18:O18) -> 0.25 | Q18: =SUM(R18:W18) -> 0.25 | R18: 0.010416667 | S18: 0.083333333 | T18: 0.125 | U18: 0.010416667 | W18: 0.020833333 | X18: =SUM(P18-Q18) -> -2.7755576e-17 | Y18: Week 5 | Z18: User 1 | AA18: ALPHA | AB18: Completed
B19: Weaponary | C19: 2 | D19: Weaponary_Rifle_Reload | E19: Dual Layer with Fire with Delay | F19: No | G19: Fire_Rifle_Player | H19: One Shot | I19: 5 | J19: Mono - 96khz - 24 bit | K19: 0.0034722222 | L19: 0.020833333 | M19: 0.083333333 | N19: 0.010416667 | O19: 0.010416667 | P19: =SUM(K19:O19) -> 0.12847222 | Q19: =SUM(R19:W19) -> 0.12847222 | R19: 0.010416667 | S19: 0.020833333 | T19: 0.083333333 | U19: 0.010416667 | W19: 0.0034722222 | X19: =SUM(P19-Q19) -> 0 | Y19: Week 5 | Z19: User 1 | AA19: ALPHA | AB19: Completed
B20: Weaponary | C20: 3 | D20: Weaponary_Rifle_Bullet_Drop_Generic | E20: Dual layer with Fire with Delay | F20: Material type does not work | G20: Fire_Shotgun_Player | H20: One Shot | I20: 10 | J20: Mono - 96khz - 24 bit | K20: 0.0034722222 | L20: 0.010416667 | M20: 0.020833333 | N20: 0.0034722222 | O20: 0.0034722222 | P20: =SUM(K20:O20) -> 0.041666667 | Q20: =SUM(R20:W20) -> 0.041666667 | R20: 0 | S20: 0.0069444444 | T20: 0.013888889 | U20: 0.010416667 | W20: 0.010416667 | X20: =SUM(P20-Q20) -> 6.9388939e-18 | Y20: Week 8 | Z20: User 1 | AA20: ALPHA | AB20: Completed
B21: Projectiles | C21: 4 | D21: Projectile_Rifle_Bullet_Ricochets | E21: Bounce of bullet, Dual Layer to Fire, with random offset delay Problem: will play on fire position. | F21: No (Material does not work) | G21: Fire_Rifle_Player | H21: One Shot | I21: 10 | J21: Mono - 96khz - 24 bit | P21: =SUM(K21:O21) -> 0 | Q21: =SUM(R21:W21) -> 0 | X21: =SUM(P21-Q21) -> 0 | AB21: Descoped
B22: Weaponary | C22: 1 | D22: Weaponary_RocketLauncher_Fire_Close | E22: Standard weapon fire, explosive | F22: N/A | G22: Fire_Rocket_Player | H22: One Shot | I22: 5 | J22: Mono - 96khz - 24 bit | P22: =SUM(K22:O22) -> 0 | Q22: =SUM(R22:W22) -> 0 | X22: =SUM(P22-Q22) -> 0 | AB22: Descoped
B23: Weaponary | C23: 2 | D23: Weaponary_RocketLauncher_Barrell_Turn | E23: Dual Layer with Fire, no delay | F23: N/A | G23: Fire_Rocket_Player | H23: One Shot | I23: 5 | J23: Mono - 96khz - 24 bit | K23: 0.0034722222 | L23: 0.041666667 | M23: 0.041666667 | N23: 0.0034722222 | O23: 0.010416667 | P23: =SUM(K23:O23) -> 0.10069444 | Q23: =SUM(R23:W23) -> 0.10069444 | R23: 0.0069444444 | S23: 0.017361111 | T23: 0.052083333 | U23: 0.010416667 | W23: 0.013888889 | X23: =SUM(P23-Q23) -> 0 | Y23: Week 5 | Z23: User 1 | AA23: ALPHA | AB23: Completed
B24: Weaponary | C24: 3 | D24: Weaponary_RocketLauncher_Fizz | E24: Dual Layer with Fire, Delay after fire | F24: N/A | G24: Fire_Rocket_Player | H24: One Shot | I24: 5 | J24: Mono - 96khz - 24 bit | K24: 0.0034722222 | L24: 0.020833333 | M24: 0.041666667 | N24: 0.0034722222 | O24: 0.010416667 | P24: =SUM(K24:O24) -> 0.079861111 | Q24: =SUM(R24:W24) -> 0.079861111 | R24: 0.0069444444 | S24: 0.010416667 | T24: 0.052083333 | U24: 0.0034722222 | W24: 0.0069444444 | X24: =SUM(P24-Q24) -> -1.3877788e-17 | Y24: Week 5 | Z24: User 1 | AA24: ALPHA | AB24: Completed
B25: Weaponary | C25: 4 | D25: Weaponary_RocketLauncher_Fire_Far | E25: Far Version, blend, Batch same EQ filter | F25: N/A | G25: Fire_Rocket_Player | H25: One Shot | I25: 3 | J25: Mono - 96khz - 24 bit | P25: =SUM(K25:O25) -> 0 | X25: =SUM(P25-Q25) -> 0 | AB25: Descoped
B26: Projectiles | C26: 1 | D26: Projectile_Rocket_Inflight | E26: Dual Layer to fire to Start | F26: N/A | G26: Fire_Rocket_Player End_Rocket_Player | H26: One Shot | I26: 3 | J26: Mono - 96khz - 24 bit | K26: 0.0034722222 | L26: 0.020833333 | M26: 0.0625 | N26: 0.013888889 | O26: 0.010416667 | P26: =SUM(K26:O26) -> 0.11111111 | Q26: =SUM(R26:W26) -> 0.11111111 | R26: 0.0069444444 | S26: 0.013888889 | T26: 0.052083333 | U26: 0.010416667 | V26: 0.020833333 | W26: 0.0069444444 | X26: =SUM(P26-Q26) -> 0 | Y26: Week 5 | Z26: User 1 | AA26: ALPHA | AB26: Completed
B27: Projectiles | C27: 1 | D27: Projectile_Rocket_Impact_Close | E27: Explosion | F27: No (Material Switch does not work) | G27: Player | H27: One Shot | I27: 3 | J27: Mono - 96khz - 24 bit | K27: 0.0034722222 | L27: 0.010416667 | M27: 0.083333333 | N27: 0.010416667 | O27: 0.0034722222 | P27: =SUM(K27:O27) -> 0.11111111 | Q27: =SUM(R27:W27) -> 0.11111111 | R27: 0.0069444444 | S27: 0.010416667 | T27: 0.052083333 | U27: 0.010416667 | V27: 0.020833333 | W27: 0.010416667 | X27: =SUM(P27-Q27) -> -1.3877788e-17 | Y27: Week 5 | Z27: User 1 | AA27: ALPHA | AB27: Completed
B28: Projectiles | C28: 1 | D28: Projectile_Rocket_Impact_Far | E28: Explosion | F28: No (Material Switch does not work) | G28: Player | H28: One Shot | I28: 3 | J28: Mono - 96khz - 24 bit | K28: 0.0034722222 | L28: 0.010416667 | M28: 0.0625 | N28: 0.010416667 | O28: 0.010416667 | P28: =SUM(K28:O28) -> 0.097222222 | Q28: =SUM(R28:W28) -> 0.097222222 | R28: 0.0069444444 | S28: 0.010416667 | T28: 0.052083333 | U28: 0.010416667 | W28: 0.017361111 | X28: =SUM(P28-Q28) -> 0 | Y28: Week 5 | Z28: User 1 | AA28: ALPHA | AB28: Completed
B29: Projectiles | C29: 1 | D29: Projectile_Rocket_Impact_Debris | E29: Explosion | F29: No (Material Switch does not work) | G29: Player | H29: One Shot | I29: 3 | J29: Mono - 96khz - 24 bit | K29: 0.0034722222 | L29: 0 | M29: 0.083333333 | N29: 0.0034722222 | O29: 0.0034722222 | P29: =SUM(K29:O29) -> 0.09375 | Q29: =SUM(R29:W29) -> 0.09375 | R29: 0.0069444444 | S29: 0.010416667 | T29: 0.052083333 | U29: 0.010416667 | W29: 0.013888889 | X29: =SUM(P29-Q29) -> 0 | Y29: Week 5 | Z29: User 1 | AA29: ALPHA | AB29: Completed
B30: Weaponary | C30: 1 | D30: Weaponary_Rifle_Fire_Far | E30: Far Version, blend, Batch same EQ filter | F30: N/A | G30: Fire_Rifle_Monster/Player | H30: One Shot | I30: 3 | J30: Mono - 96khz - 24 bit | P30: =SUM(K30:O30) -> 0 | Q30: =SUM(R30:W30) -> 0 | X30: =SUM(P30-Q30) -> 0 | AB30: Descoped
B31: Weaponary | C31: 3 | D31: Weaponary_Shield_Metal_Drop_Rest_All_Surfaces | E31: Teeth, slobber (also used for Flesh) | F31: No (Material Switch does not exist) | G31: Fire_Bite_Monster | H31: One Shot | I31: 10 | J31: Mono - 96khz - 24 bit | K31: 0.013888889 | L31: 0.0625 | M31: 0.125 | N31: 0.013888889 | O31: 0.013888889 | P31: =SUM(K31:O31) -> 0.22916667 | Q31: =SUM(R31:W31) -> 0.22916667 | R31: 0.010416667 | S31: 0.0625 | T31: 0.125 | U31: 0.013888889 | W31: 0.017361111 | X31: =SUM(P31-Q31) -> 0 | Y31: Week 10 | Z31: User 1 | AA31: ALPHA | AB31: Completed
B32: Weaponary | C32: 4 | D32: Weaponary_Shield_Metal_Drop_Bounce_All_Surfaces | E32: Teeth, slobber (also used for Flesh) | F32: No (Material Switch does not exist) | G32: Fire_Bite_Monster | H32: One Shot | I32: 10 | J32: Mono - 96khz - 24 bit | P32: =SUM(K32:O32) -> 0 | Q32: =SUM(R32:W32) -> 0 | X32: =SUM(P32-Q32) -> 0 | AB32: Descoped
B33: Weaponary | C33: 1 | D33: Weaponary_Punch_Generic | E33: Avoid Overly slappy, more thump. Investigate armour impacts? | F33: No (Material Switch does not work) | G33: Fire_Fist_Player | H33: One Shot | I33: 10 | J33: Mono - 96khz - 24 bit | K33: 0.0034722222 | L33: 0.020833333 | M33: 0.041666667 | N33: 0.010416667 | O33: 0.010416667 | P33: =SUM(K33:O33) -> 0.086805556 | Q33: =SUM(R33:W33) -> 0.086805556 | R33: 0.010416667 | S33: 0.020833333 | T33: 0.041666667 | U33: 0.010416667 | W33: 0.0034722222 | X33: =SUM(P33-Q33) -> 0 | Y33: Week 4 | Z33: User 1 | AA33: ALPHA | AB33: Completed
B34: Weaponary | C34: 4 | D34: Weaponary_Punch_Armour_Metal_Plate | E34: Thump onto plate armour. Investigate armour impacts? | F34: No (Material Switch does not work) | G34: Fire_Fist_Player | H34: One Shot | I34: 10 | J34: Mono - 96khz - 24 bit | P34: =SUM(K34:O34) -> 0 | Q34: =SUM(R34:W34) -> 0 | X34: =SUM(P34-Q34) -> 0 | AB34: Descoped
B35: Weaponary | C35: 4 | D35: Weaponary_Punch_Armour_Leather | E35: Thump onto leather armour Investigate armour impacts? | F35: No (Material Switch does not work) | G35: Fire_Fist_Player | H35: One Shot | I35: 10 | J35: Mono - 96khz - 24 bit | P35: =SUM(K35:O35) -> 0 | Q35: =SUM(R35:W35) -> 0 | X35: =SUM(P35-Q35) -> 0 | AB35: Descoped
B36: Weaponary | C36: 4 | D36: Weaponary_Punch_Armour_Flesh | E36: Slap focus. Investigate armour impacts? | F36: No (Material Switch does not work) | G36: Fire_Fist_Player | H36: One Shot | I36: 10 | J36: Mono - 96khz - 24 bit | P36: =SUM(K36:O36) -> 0 | Q36: =SUM(R36:W36) -> 0 | X36: =SUM(P36-Q36) -> 0 | AB36: Descoped
B37: Weaponary | C37: 1 | D37: Weaponary_Bite_Generic | E37: Teeth, slobber (also used for Flesh) | F37: No (Material Switch does not exist) | G37: Fire_Bite_Monster | H37: One Shot | I37: 10 | J37: Mono - 96khz - 24 bit | K37: 0.010416667 | L37: 0.020833333 | M37: 0.041666667 | N37: 0.010416667 | O37: 0.010416667 | P37: =SUM(K37:O37) -> 0.09375 | Q37: =SUM(R37:W37) -> 0.09375 | R37: 0.0069444444 | S37: 0.020833333 | T37: 0.041666667 | U37: 0.0069444444 | W37: 0.017361111 | X37: =SUM(P37-Q37) -> 0 | Y37: Week 8 | Z37: User 1 | AA37: ALPHA | AB37: Completed
B38: Weaponary | C38: 4 | D38: Weaponary_Bite_Armor_Metal_Plate | E38: Teeth, slobber, plate armor element Possibly due layer foley with generic bite | F38: No (Material Switch does not exist) | G38: Fire_Bite_Monster | H38: One Shot | I38: 5 | J38: Mono - 96khz - 24 bit | P38: =SUM(K38:O38) -> 0 | Q38: =SUM(R38:W38) -> 0 | X38: =SUM(P38-Q38) -> 0 | AB38: Descoped
B39: Weaponary | C39: 4 | D39: Weaponary_Bite_Armor_Leather | E39: Teeth, slobber, plate armour element Possibly due layer foley with generic bite | F39: No (Material Switch does not exist) | G39: Fire_Bite_Monster | H39: One Shot | I39: 5 | J39: Mono - 96khz - 24 bit | P39: =SUM(K39:O39) -> 0 | Q39: =SUM(R39:W39) -> 0 | X39: =SUM(P39-Q39) -> 0 | AB39: Descoped
B40: Magic | C40: 1 | D40: Magic_Rocket_Fire | E40: Reuse Projectile rocket launcher content | F40: N/A | G40: Fire_Fireball_Monster/Player | H40: One Shot | I40: 3 | J40: Mono - 96khz - 24 bit | P40: =SUM(K40:O40) -> 0 | Q40: =SUM(R40:W40) -> 0 | X40: =SUM(P40-Q40) -> 0 | AB40: Descoped
B41: Magic | C41: 1 | D41: Magic_Rocket_Inflight | E41: Reuse Projectile rocket launcher content Start Dual layer to Fire, Stop Use End event | F41: N/A | G41: Fire_Fireball_Monster/Player End_Fireball_Monster/Player | H41: One Shot | I41: 3 | J41: Mono - 96khz - 24 bit | K41: 0.010416667 | L41: 0 | M41: 0 | N41: 0.010416667 | O41: 0.010416667 | P41: =SUM(K41:O41) -> 0.03125 | Q41: =SUM(R41:W41) -> 0.03125 | R41: 0.0069444444 | S41: 0 | T41: 0 | U41: 0.013888889 | W41: 0.010416667 | X41: =SUM(P41-Q41) -> 0 | Y41: Week 5 | Z41: User 1 | AA41: ALPHA | AB41: Completed
B42: Magic | C42: 1 | D42: Magic_Rocket_Impact_Close | E42: Reuse Projectile rocket launcher content | F42: N/A | G42: Hit_Fireball_Monster/Player | H42: One Shot | I42: 3 | J42: Mono - 96khz - 24 bit | K42: 0.010416667 | L42: 0 | M42: 0 | N42: 0.010416667 | O42: 0.010416667 | P42: =SUM(K42:O42) -> 0.03125 | Q42: =SUM(R42:W42) -> 0.03125 | R42: 0.0034722222 | S42: 0 | T42: 0 | U42: 0.013888889 | W42: 0.013888889 | X42: =SUM(P42-Q42) -> 0 | Y42: Week 5 | Z42: User 1 | AA42: ALPHA | AB42: Completed
B43: Magic | C43: 1 | D43: Magic_Rocket_Impact_Far | E43: Reuse Projectile rocket launcher content | F43: N/A | G43: Hit_Fireball_Monster/Player | H43: One Shot | I43: 3 | J43: Mono - 96khz - 24 bit | K43: 0.010416667 | L43: 0 | M43: 0 | N43: 0.010416667 | O43: 0.010416667 | P43: =SUM(K43:O43) -> 0.03125 | Q43: =SUM(R43:W43) -> 0.03125 | R43: 0.0034722222 | S43: 0 | T43: 0 | U43: 0.013888889 | W43: 0.013888889 | X43: =SUM(P43-Q43) -> 0 | Y43: Week 5 | Z43: User 1 | AA43: ALPHA | AB43: Completed
B44: Magic | C44: 1 | D44: Magic_Rocket_Impact_Debris | E44: Reuse Projectile rocket launcher content | F44: N/A | G44: Hit_Fireball_Monster/Player | H44: One Shot | I44: 3 | J44: Mono - 96khz - 24 bit | K44: 0.010416667 | L44: 0 | M44: 0 | N44: 0.010416667 | O44: 0.010416667 | P44: =SUM(K44:O44) -> 0.03125 | Q44: =SUM(R44:W44) -> 0.03125 | R44: 0.0034722222 | S44: 0 | T44: 0 | U44: 0.013888889 | W44: 0.013888889 | X44: =SUM(P44-Q44) -> 0 | Y44: Week 5 | Z44: User 1 | AA44: ALPHA | AB44: Completed
B45: Magic | C45: 1 | D45: Magic_Fireball_Fire | F45: N/A | G45: Fire_Fireball_Monster/Player | H45: One Shot | I45: 3 | J45: Mono - 96khz - 24 bit | K45: 0 | L45: 0.020833333 | M45: 0.041666667 | N45: 0.0069444444 | O45: 0.0069444444 | P45: =SUM(K45:O45) -> 0.076388889 | Q45: =SUM(R45:W45) -> 0.076388889 | R45: 0.020833333 | S45: 0.020833333 | T45: 0.020833333 | U45: 0.0069444444 | W45: 0.0069444444 | X45: =SUM(P45-Q45) -> 0 | Y45: Week 12 | Z45: User 1 | AA45: ALPHA | AB45: Completed | AC45: Cannon _Gun
B46: Magic | C46: 1 | D46: Magic_Fireball_Inflight | E46: Start Dual layer to Fire, Stop Use End event | F46: N/A | G46: Fire_Fireball_Monster/Player End_Fireball_Monster/Player | H46: One Shot | I46: 3 | J46: Mono - 96khz - 24 bit | K46: 0.0069444444 | L46: 0.020833333 | M46: 0.041666667 | N46: 0.0069444444 | O46: 0.0069444444 | P46: =SUM(K46:O46) -> 0.083333333 | Q46: =SUM(R46:W46) -> 0.083333333 | R46: 0.020833333 | S46: 0.020833333 | T46: 0.027777778 | U46: 0.0069444444 | W46: 0.0069444444 | X46: =SUM(P46-Q46) -> 0 | Y46: Week 12 | Z46: User 1 | AA46: ALPHA | AB46: Completed
B47: Magic | C47: 1 | D47: Magic_Fireball_Impact | F47: N/A | G47: Hit_Fireball_Monster/Player | H47: One Shot | I47: 3 | J47: Mono - 96khz - 24 bit | K47: 0.0069444444 | L47: 0.041666667 | M47: 0.041666667 | N47: 0.0069444444 | O47: 0.0069444444 | P47: =SUM(K47:O47) -> 0.10416667 | Q47: =SUM(R47:W47) -> 0.10416667 | R47: 0.020833333 | S47: 0.020833333 | T47: 0.041666667 | U47: 0.0069444444 | W47: 0.013888889 | X47: =SUM(P47-Q47) -> 0 | Y47: Week 12 | Z47: User 1 | AA47: ALPHA | AB47: Completed | AC47: Includes sizzle layer
B48: Magic | C48: 1 | D48: Magic_Fireball_Impact_Sweetener | E48: Dual layer to trigger when Fireball impacts | F48: N/A | G48: Hit_Fireball_Monster/Player | H48: One Shot | I48: 3 | J48: Mono - 96khz - 24 bit | K48: 0.0069444444 | L48: 0.041666667 | M48: 0.041666667 | N48: 0.0069444444 | O48: 0.0069444444 | P48: =SUM(K48:O48) -> 0.10416667 | Q48: =SUM(R48:W48) -> 0.10416667 | R48: 0.020833333 | S48: 0.020833333 | T48: 0.041666667 | U48: 0.0069444444 | W48: 0.013888889 | X48: =SUM(P48-Q48) -> 0 | Y48: Week 12 | Z48: User 1 | AA48: ALPHA | AB48: Completed | AC48: Includes sizzle layer
B49: Magic | C49: 1 | D49: Magic_Iceball_Fire | F49: N/A | G49: Fire_Iceball_Monster/Player | H49: One Shot | I49: 3 | J49: Mono - 96khz - 24 bit | P49: =SUM(K49:O49) -> 0 | X49: =SUM(P49-Q49) -> 0 | AB49: Descoped
B50: Magic | C50: 1 | D50: Magic_Iceball_Inflight | E50: Start Dual layer to Fire, Stop Use End event | F50: N/A | G50: Fire_Iceball_Monster/Player End_Iceball_Monster/Player | H50: One Shot | I50: 3 | J50: Mono - 96khz - 24 bit | K50: 0 | L50: 0.010416667 | M50: 0.041666667 | N50: 0.0069444444 | O50: 0.0069444444 | P50: =SUM(K50:O50) -> 0.065972222 | Q50: =SUM(R50:W50) -> 0.065972222 | R50: 0 | S50: 0.010416667 | T50: 0.03125 | U50: 0.0069444444 | W50: 0.017361111 | X50: =SUM(P50-Q50) -> 1.3877788e-17 | Y50: Week 12 | Z50: User 1 | AA50: ALPHA | AB50: Completed
B51: Magic | C51: 1 | D51: Magic_Iceball_Impact | F51: N/A | G51: Hit_Iceball_Monster/Player | H51: One Shot | I51: 3 | J51: Mono - 96khz - 24 bit | K51: 0.0069444444 | L51: 0.020833333 | M51: 0.041666667 | N51: 0.0069444444 | O51: 0.0069444444 | P51: =SUM(K51:O51) -> 0.083333333 | Q51: =SUM(R51:W51) -> 0.083333333 | R51: 0.0069444444 | S51: 0.020833333 | T51: 0.03125 | U51: 0.0069444444 | W51: 0.017361111 | X51: =SUM(P51-Q51) -> 0 | Y51: Week 12 | Z51: User 1 | AA51: ALPHA | AB51: Completed
B52: Magic | C52: 1 | D52: Magic_Iceball_Impact_Sweetener | E52: Dual layer to trigger when Iceball impacts | F52: N/A | G52: Hit_Iceball_Monster/Player | H52: One Shot | I52: 3 | J52: Mono - 96khz - 24 bit | K52: 0.0069444444 | L52: 0.020833333 | M52: 0.041666667 | N52: 0.0069444444 | O52: 0.0069444444 | P52: =SUM(K52:O52) -> 0.083333333 | Q52: =SUM(R52:W52) -> 0.083333333 | R52: 0.0069444444 | S52: 0.020833333 | T52: 0.03125 | U52: 0.0069444444 | W52: 0.017361111 | X52: =SUM(P52-Q52) -> 0 | Y52: Week 12 | Z52: User 1 | AA52: ALPHA | AB52: Completed
B53: Magic | C53: 1 | D53: Magic_Slimeball_Fire | F53: N/A | G53: Fire_Slimeball_Monster/Player | H53: One Shot | I53: 3 | J53: Mono - 96khz - 24 bit | P53: =SUM(K53:O53) -> 0 | Q53: =SUM(R53:W53) -> 0 | X53: =SUM(P53-Q53) -> 0 | Y53: Week 12 | AB53: Descoped
B54: Magic | C54: 1 | D54: Magic_Slimeball_Inflight | E54: Start Dual layer to Fire, Stop Use End event | F54: N/A | G54: Fire_SlimeBall_Monster/Player End_Slimeball_Monster/Player | H54: One Shot | I54: 3 | J54: Mono - 96khz - 24 bit | P54: =SUM(K54:O54) -> 0 | Q54: =SUM(R54:W54) -> 0 | X54: =SUM(P54-Q54) -> 0 | Y54: Week 12 | AB54: Descoped
B55: Magic | C55: 1 | D55: Magic_Slimeball_Impact | F55: N/A | G55: Hit_Slimeball_Monster/Player | H55: One Shot | I55: 3 | J55: Mono - 96khz - 24 bit | K55: 0.0069444444 | L55: 0.020833333 | M55: 0.041666667 | N55: 0.0069444444 | O55: 0.0069444444 | P55: =SUM(K55:O55) -> 0.083333333 | Q55: =SUM(R55:W55) -> 0.083333333 | R55: 0.024305556 | S55: 0.020833333 | T55: 0.020833333 | U55: 0.0069444444 | W55: 0.010416667 | X55: =SUM(P55-Q55) -> 0 | Y55: Week 12 | Z55: User 1 | AA55: ALPHA | AB55: Completed
B56: Footstep | C56: 1 | D56: Underwater_Bubbles_Generic | E56: Use sound event fade in time Add playerIN water switch as header container Add to play for all underwater movement Needs not to be too plungy as will play under water too | F56: Material Footstep PlayerInWater (only use on player) | G56: All footsteps events | H56: One Shot | I56: 30 | J56: Mono - 96khz - 24 bit | K56: 0.0034722222 | L56: 0.020833333 | M56: 0.03125 | N56: 0.010416667 | O56: 0.010416667 | P56: =SUM(K56:O56) -> 0.076388889 | Q56: =SUM(R56:W56) -> 0.076388889 | R56: 0.0034722222 | S56: 0.010416667 | T56: 0.03125 | U56: 0.017361111 | W56: 0.013888889 | X56: =SUM(P56-Q56) -> 0 | Y56: Week 8 | Z56: User 1 | AA56: ALPHA | AB56: Completed
B57: Footstep | C57: 1 | D57: Footstep_Generic_Water_Wades_Loop | E57: Use sound event fade in time Add playerIN water switch as header container Add to play for all underwater movement Needs not to be too plungy as will play under water too | F57: Material Footstep PlayerInWater (only use on player) | G57: All footsteps events | H57: One Shot | I57: 1 | J57: Mono - 96khz - 24 bit | K57: 0.0034722222 | L57: 0.020833333 | M57: 0.125 | N57: 0.010416667 | O57: 0.010416667 | P57: =SUM(K57:O57) -> 0.17013889 | Q57: =SUM(R57:W57) -> 0.17013889 | R57: 0.0069444444 | S57: 0.020833333 | T57: 0.083333333 | U57: 0.010416667 | V57: 0.041666667 | W57: 0.0069444444 | X57: =SUM(P57-Q57) -> -2.7755576e-17 | Y57: Week 2 | Z57: User 1 | AA57: ALPHA | AB57: Completed
B58: Footstep | C58: 1 | D58: Footstep_Knight_Hard_Surface | E58: Use as layer for metal weight | F58: Material Footstep Also use for material type:Tile | G58: Foot_Knight | H58: One Shot | I58: 10 | J58: Mono - 96khz - 24 bit | K58: 0.0034722222 | L58: 0.020833333 | M58: 0.083333333 | N58: 0.010416667 | O58: 0.010416667 | P58: =SUM(K58:O58) -> 0.12847222 | Q58: =SUM(R58:W58) -> 0.12847222 | R58: 0.0069444444 | S58: 0.020833333 | T58: 0.041666667 | U58: 0.010416667 | V58: 0.041666667 | W58: 0.0069444444 | X58: =SUM(P58-Q58) -> -2.7755576e-17 | Y58: Week 1 | Z58: User 1 | AA58: ALPHA | AB58: Completed
B59: Footstep | C59: 1 | D59: Footstep_Knight_Soft_Surface | E59: Use as layer for metal weight | F59: Material Footstep Also use for material type:Tile | G59: Foot_Knight | H59: One Shot | I59: 10 | J59: Mono - 96khz - 24 bit | K59: 0.0034722222 | L59: 0.020833333 | M59: 0.083333333 | N59: 0.010416667 | O59: 0.010416667 | P59: =SUM(K59:O59) -> 0.12847222 | Q59: =SUM(R59:W59) -> 0.12847222 | R59: 0.0069444444 | S59: 0.020833333 | T59: 0.041666667 | U59: 0.010416667 | V59: 0.041666667 | W59: 0.0069444444 | X59: =SUM(P59-Q59) -> -2.7755576e-17 | Y59: Week 1 | Z59: User 1 | AA59: ALPHA | AB59: Completed
B60: Footstep | C60: 1 | D60: Footstep_Humanoid_Run_Concrete | E60: Use sound event fade in time Add playerIN water switch as header container | F60: Material Footstep Also use for material type:Tile | G60: Foot_Goblin Foot_Ogre Foot_Slith Foot_Rat (Ratamahatta) | H60: One Shot | I60: 30 | J60: Mono - 96khz - 24 bit | K60: 0.0034722222 | L60: 0.020833333 | M60: 0.125 | N60: 0.010416667 | O60: 0.010416667 | P60: =SUM(K60:O60) -> 0.17013889 | Q60: =SUM(R60:W60) -> 0.17013889 | R60: 0.0069444444 | S60: 0.020833333 | T60: 0.083333333 | U60: 0.010416667 | V60: 0.041666667 | W60: 0.0069444444 | X60: =SUM(P60-Q60) -> -2.7755576e-17 | Y60: Week 1 | Z60: User 1 | AA60: ALPHA | AB60: Completed
B61: Footstep | C61: 2 | D61: Footstep_Humanoid_Run_Grass | E61: Use sound event fade in time Add playerIN water switch as header container | F61: Material Footstep | G61: Foot_Goblin Foot_Ogre Foot_Slith Foot_Rat (Ratamahatta) | H61: One Shot | I61: 30 | J61: Mono - 96khz - 24 bit | K61: 0.0034722222 | L61: 0.020833333 | M61: 0.125 | N61: 0.010416667 | O61: 0.010416667 | P61: =SUM(K61:O61) -> 0.17013889 | Q61: =SUM(R61:W61) -> 0.17013889 | R61: 0.0069444444 | S61: 0.020833333 | T61: 0.083333333 | U61: 0.010416667 | V61: 0.041666667 | W61: 0.0069444444 | X61: =SUM(P61-Q61) -> -2.7755576e-17 | Y61: Week 1 | Z61: User 1 | AA61: ALPHA | AB61: Completed
B62: Footstep | C62: 1 | D62: Footstep_Humanoid_Run_Metal | E62: Use sound event fade in time Add playerIN water switch as header container | F62: Material Footstep | G62: Foot_Goblin Foot_Ogre Foot_Slith Foot_Rat (Ratamahatta) | H62: One Shot | I62: 30 | J62: Mono - 96khz - 24 bit | K62: 0.0034722222 | L62: 0.020833333 | M62: 0.125 | N62: 0.010416667 | O62: 0.010416667 | P62: =SUM(K62:O62) -> 0.17013889 | Q62: =SUM(R62:W62) -> 0.17013889 | R62: 0.0069444444 | S62: 0.020833333 | T62: 0.083333333 | U62: 0.010416667 | V62: 0.041666667 | W62: 0.0069444444 | X62: =SUM(P62-Q62) -> -2.7755576e-17 | Y62: Week 1 | Z62: User 1 | AA62: ALPHA | AB62: Completed
B63: Footstep | C63: 2 | D63: Footstep_Humanoid_Run_Sand | E63: Use sound event fade in time Add playerIN water switch as header container | F63: Material Footstep | G63: Foot_Goblin Foot_Ogre Foot_Slith Foot_Rat (Ratamahatta) | H63: One Shot | I63: 30 | J63: Mono - 96khz - 24 bit | K63: 0.0034722222 | L63: 0.020833333 | M63: 0.125 | N63: 0.010416667 | O63: 0.010416667 | P63: =SUM(K63:O63) -> 0.17013889 | Q63: =SUM(R63:W63) -> 0.17013889 | R63: 0.0069444444 | S63: 0.020833333 | T63: 0.083333333 | U63: 0.010416667 | V63: 0.041666667 | W63: 0.0069444444 | X63: =SUM(P63-Q63) -> -2.7755576e-17 | Y63: Week 1 | Z63: User 1 | AA63: ALPHA | AB63: Completed
B64: Footstep | C64: 2 | D64: Footstep_Humanoid_Run_Rock | E64: Use sound event fade in time Add playerIN water switch as header container | F64: Material Footstep | G64: Foot_Goblin Foot_Ogre Foot_Slith Foot_Rat (Ratamahatta) | H64: One Shot | I64: 30 | J64: Mono - 96khz - 24 bit | K64: 0.0034722222 | L64: 0.020833333 | M64: 0.125 | N64: 0.010416667 | O64: 0.010416667 | P64: =SUM(K64:O64) -> 0.17013889 | Q64: =SUM(R64:W64) -> 0.17013889 | R64: 0.0069444444 | S64: 0.020833333 | T64: 0.083333333 | U64: 0.010416667 | V64: 0.041666667 | W64: 0.0069444444 | X64: =SUM(P64-Q64) -> -2.7755576e-17 | Y64: Week 1 | Z64: User 1 | AA64: ALPHA | AB64: Completed
B65: Footstep | C65: 1 | D65: Footstep_Humanoid_Run_Stone | E65: Use sound event fade in time Add playerIN water switch as header container | F65: Material Footstep | G65: Foot_Goblin Foot_Ogre Foot_Slith Foot_Rat (Ratamahatta) | H65: One Shot | I65: 30 | J65: Mono - 96khz - 24 bit | K65: 0.0034722222 | L65: 0.020833333 | M65: 0.125 | N65: 0.010416667 | O65: 0.010416667 | P65: =SUM(K65:O65) -> 0.17013889 | Q65: =SUM(R65:W65) -> 0.17013889 | R65: 0.0069444444 | S65: 0.020833333 | T65: 0.083333333 | U65: 0.010416667 | V65: 0.041666667 | W65: 0.0069444444 | X65: =SUM(P65-Q65) -> -2.7755576e-17 | Y65: Week 1 | Z65: User 1 | AA65: ALPHA | AB65: Completed
B66: Footstep | C66: 1 | D66: Footstep_Humanoid_Run_Undergrowth | E66: Use sound event fade in time Add playerIN water switch as header container | F66: Material Footstep | G66: Foot_Goblin Foot_Ogre Foot_Slith Foot_Rat (Ratamahatta) | H66: One Shot | I66: 30 | J66: Mono - 96khz - 24 bit | P66: =SUM(K66:O66) -> 0 | X66: =SUM(P66-Q66) -> 0 | AB66: Descoped
B67: Footstep | C67: 1 | D67: Footstep_Humanoid_Run_Water | E67: Use sound event fade in time Add playerIN water switch as header container | F67: Material Footstep | G67: Foot_Goblin Foot_Ogre Foot_Slith Foot_Rat (Ratamahatta) | H67: One Shot | I67: 30 | J67: Mono - 96khz - 24 bit | K67: 0.0034722222 | L67: 0.020833333 | M67: 0.125 | N67: 0.010416667 | O67: 0.010416667 | P67: =SUM(K67:O67) -> 0.17013889 | Q67: =SUM(R67:W67) -> 0.17013889 | R67: 0.0069444444 | S67: 0.020833333 | T67: 0.083333333 | U67: 0.010416667 | V67: 0.041666667 | W67: 0.0069444444 | X67: =SUM(P67-Q67) -> -2.7755576e-17 | Y67: Week 2 | Z67: User 1 | AA67: ALPHA | AB67: Completed
B68: Footstep | C68: 1 | D68: Footstep_Humanoid_Run_Wood | E68: Use sound event fade in time Add playerIN water switch as header container | F68: Material Footstep | G68: Foot_Goblin Foot_Ogre Foot_Slith Foot_Rat (Ratamahatta) | H68: One Shot | I68: 30 | J68: Mono - 96khz - 24 bit | K68: 0.0034722222 | L68: 0.020833333 | M68: 0.125 | N68: 0.010416667 | O68: 0.010416667 | P68: =SUM(K68:O68) -> 0.17013889 | Q68: =SUM(R68:W68) -> 0.17013889 | R68: 0.0069444444 | S68: 0.020833333 | T68: 0.083333333 | U68: 0.010416667 | V68: 0.041666667 | W68: 0.0069444444 | X68: =SUM(P68-Q68) -> -2.7755576e-17 | Y68: Week 1 | Z68: User 1 | AA68: ALPHA | AB68: Completed
B69: Footstep | C69: 1 | D69: Footstep_Humanoid_Run_Undergrowth | E69: Use sound event fade in time Add playerIN water switch as header container | F69: Material Footstep | G69: Foot_Goblin Foot_Ogre Foot_Slith Foot_Rat (Ratamahatta) | H69: One Shot | I69: 30 | J69: Mono - 96khz - 24 bit | K69: 0.0034722222 | L69: 0.020833333 | M69: 0.125 | N69: 0.010416667 | O69: 0.010416667 | P69: =SUM(K69:O69) -> 0.17013889 | Q69: =SUM(R69:W69) -> 0.17013889 | R69: 0.0069444444 | S69: 0.020833333 | T69: 0.083333333 | U69: 0.010416667 | V69: 0.041666667 | W69: 0.0069444444 | X69: =SUM(P69-Q69) -> -2.7755576e-17 | Y69: Week 1 | Z69: User 1 | AA69: ALPHA | AB69: Completed
B70: Footstep | C70: 1 | D70: Footstep_Humanoid_Run_Peddles | E70: Use sound event fade in time Add playerIN water switch as header container | F70: Material Footstep | G70: Foot_Goblin Foot_Ogre Foot_Slith Foot_Rat (Ratamahatta) | H70: One Shot | I70: 30 | J70: Mono - 96khz - 24 bit | K70: 0.0034722222 | L70: 0.020833333 | M70: 0.125 | N70: 0.010416667 | O70: 0.010416667 | P70: =SUM(K70:O70) -> 0.17013889 | Q70: =SUM(R70:W70) -> 0.17013889 | R70: 0.0069444444 | S70: 0.020833333 | T70: 0.083333333 | U70: 0.010416667 | V70: 0.041666667 | W70: 0.0069444444 | X70: =SUM(P70-Q70) -> -2.7755576e-17 | Y70: Week 1 | Z70: User 1 | AA70: ALPHA | AB70: Completed
B71: Footstep | C71: 3 | D71: Footstep_Humanoid_Run_Stones | E71: Use sound event fade in time | F71: Material Footstep PlayerInWater | G71: Foot_Goblin Foot_Ogre Foot_Slith Foot_Rat (Ratamahatta) Foot_Rhino Foot_Player Foot_Knight Foot_HellPig | H71: One Shot | I71: 30 | J71: Mono - 96khz - 24 bit | P71: =SUM(K71:O71) -> 0 | Q71: =SUM(R71:W71) -> 0 | X71: =SUM(P71-Q71) -> 0 | AB71: Descoped
B72: Footstep | C72: 4 | D72: Footstep_Humanoid_Metal_Run_Concrete | E72: Use sound event fade in time Set up x3 - small metal foot EQ/Volume + standard size + Player | F72: Material Footstep PlayerInWater (only use on player) | G72: Foot_Knight Foot_Player Foot_Rhino | H72: One Shot | I72: 30 | J72: Mono - 96khz - 24 bit | P72: =SUM(K72:O72) -> 0 | Q72: =SUM(R72:W72) -> 0 | X72: =SUM(P72-Q72) -> 0 | AB72: Descoped
B73: Footstep | C73: 4 | D73: Footstep_Humanoid_Metal_Run_Grass | E73: Use sound event fade in time Set up x3 - small metal foot EQ/Volume + standard size + Player | F73: Material Footstep PlayerInWater (only use on player) | G73: Foot_Knight Foot_Player Foot_Rhino | H73: One Shot | I73: 30 | J73: Mono - 96khz - 24 bit | P73: =SUM(K73:O73) -> 0 | Q73: =SUM(R73:W73) -> 0 | X73: =SUM(P73-Q73) -> 0 | AB73: Descoped
B74: Footstep | C74: 4 | D74: Footstep_Humanoid_Metal_Run_Metal | E74: Use sound event fade in time Set up x3 - small metal foot EQ/Volume + standard size + Player | F74: Material Footstep PlayerInWater (only use on player) | G74: Foot_Knight Foot_Player Foot_Rhino | H74: One Shot | I74: 30 | J74: Mono - 96khz - 24 bit | P74: =SUM(K74:O74) -> 0 | Q74: =SUM(R74:W74) -> 0 | X74: =SUM(P74-Q74) -> 0 | AB74: Descoped
B75: Footstep | C75: 4 | D75: Footstep_Humanoid_Metal_Run_Sand | E75: Use sound event fade in time Set up x3 - small metal foot EQ/Volume + standard size + Player | F75: Material Footstep PlayerInWater (only use on player) | G75: Foot_Knight Foot_Player Foot_Rhino | H75: One Shot | I75: 30 | J75: Mono - 96khz - 24 bit | P75: =SUM(K75:O75) -> 0 | Q75: =SUM(R75:W75) -> 0 | X75: =SUM(P75-Q75) -> 0 | AB75: Descoped
B76: Footstep | C76: 4 | D76: Footstep_Humanoid_Metal_Run_Rock | E76: Use sound event fade in time Set up x3 - small metal foot EQ/Volume + standard size + Player | F76: Material Footstep PlayerInWater (only use on player) | G76: Foot_Knight Foot_Player Foot_Rhino | H76: One Shot | I76: 30 | J76: Mono - 96khz - 24 bit | P76: =SUM(K76:O76) -> 0 | Q76: =SUM(R76:W76) -> 0 | X76: =SUM(P76-Q76) -> 0 | AB76: Descoped
B77: Footstep | C77: 4 | D77: Footstep_Humanoid_Metal_Run_Stone | E77: Use sound event fade in time Set up x3 - small metal foot EQ/Volume + standard size + Player | F77: Material Footstep PlayerInWater (only use on player) | G77: Foot_Knight Foot_Player Foot_Rhino | H77: One Shot | I77: 30 | J77: Mono - 96khz - 24 bit | P77: =SUM(K77:O77) -> 0 | Q77: =SUM(R77:W77) -> 0 | X77: =SUM(P77-Q77) -> 0 | AB77: Descoped
B78: Footstep | C78: 4 | D78: Footstep_Humanoid_Metal_Run_Water | E78: Use sound event fade in time Set up x3 - small metal foot EQ/Volume + standard size + Player | F78: Material Footstep PlayerInWater (only use on player) | G78: Foot_Knight Foot_Player Foot_Rhino | H78: One Shot | I78: 30 | J78: Mono - 96khz - 24 bit | P78: =SUM(K78:O78) -> 0 | Q78: =SUM(R78:W78) -> 0 | X78: =SUM(P78-Q78) -> 0 | AB78: Descoped
B79: Footstep | C79: 4 | D79: Footstep_Humanoid_Metal_Run_Wood | E79: Use sound event fade in time Set up x3 - small metal foot EQ/Volume + standard size + Player | F79: Material Footstep PlayerInWater (only use on player) | G79: Foot_Knight Foot_Player Foot_Rhino | H79: One Shot | I79: 30 | J79: Mono - 96khz - 24 bit | P79: =SUM(K79:O79) -> 0 | Q79: =SUM(R79:W79) -> 0 | X79: =SUM(P79-Q79) -> 0 | AB79: Descoped
B80: Footstep | C80: 4 | D80: Footstep_Humanoid_Metal_Run_Undergrowth | E80: Use sound event fade in time Set up x3 - small metal foot EQ/Volume + standard size + Player | F80: Material Footstep PlayerInWater (only use on player) | G80: Foot_Knight Foot_Player Foot_Rhino | H80: One Shot | I80: 30 | J80: Mono - 96khz - 24 bit | P80: =SUM(K80:O80) -> 0 | Q80: =SUM(R80:W80) -> 0 | X80: =SUM(P80-Q80) -> 0 | AB80: Descoped
B81: Footstep | C81: 4 | D81: Footstep_Humanoid_Metal_Run_Peddles | E81: Use sound event fade in time Set up x3 - small metal foot EQ/Volume + standard size + Player | F81: Material Footstep PlayerInWater (only use on player) | G81: Foot_Knight Foot_Player Foot_Rhino | H81: One Shot | I81: 30 | J81: Mono - 96khz - 24 bit | P81: =SUM(K81:O81) -> 0 | Q81: =SUM(R81:W81) -> 0 | X81: =SUM(P81-Q81) -> 0 | AB81: Descoped
B82: Footstep | C82: 1 | D82: Footstep_Hellpig_Run_Concrete | E82: Hellpig - Use sound event fade in time | F82: Material Footstep | G82: Foot_HellPig | H82: One Shot | I82: 15 | J82: Mono - 96khz - 24 bit | K82: 0.0034722222 | L82: 0.020833333 | M82: 0.041666667 | N82: 0.0034722222 | O82: 0.010416667 | P82: =SUM(K82:O82) -> 0.079861111 | Q82: =SUM(R82:W82) -> 0.079861111 | R82: 0.0069444444 | S82: 0.020833333 | T82: 0.041666667 | U82: 0.0069444444 | W82: 0.0034722222 | X82: =SUM(P82-Q82) -> -1.3877788e-17 | Y82: Week 7 | Z82: User 1 | AA82: ALPHA | AB82: Completed
B83: Footstep | C83: 2 | D83: Footstep_Hellpig_Run_Grass | E83: Hellpig - Use sound event fade in time | F83: Material Footstep | G83: Foot_HellPig | H83: One Shot | I83: 15 | J83: Mono - 96khz - 24 bit | K83: 0.0034722222 | L83: 0.020833333 | M83: 0.041666667 | N83: 0.0034722222 | O83: 0.010416667 | P83: =SUM(K83:O83) -> 0.079861111 | Q83: =SUM(R83:W83) -> 0.079861111 | R83: 0.0069444444 | S83: 0.020833333 | T83: 0.041666667 | U83: 0.0069444444 | W83: 0.0034722222 | X83: =SUM(P83-Q83) -> -1.3877788e-17 | Y83: Week 7 | Z83: User 1 | AA83: ALPHA | AB83: Completed
B84: Footstep | C84: 1 | D84: Footstep_Hellpig_Run_Metal | E84: Hellpig - Use sound event fade in time | F84: Material Footstep | G84: Foot_HellPig | H84: One Shot | I84: 15 | J84: Mono - 96khz - 24 bit | K84: 0.0034722222 | L84: 0.020833333 | M84: 0.041666667 | N84: 0.0034722222 | O84: 0.010416667 | P84: =SUM(K84:O84) -> 0.079861111 | Q84: =SUM(R84:W84) -> 0.079861111 | R84: 0.0069444444 | S84: 0.020833333 | T84: 0.041666667 | U84: 0.0069444444 | W84: 0.0034722222 | X84: =SUM(P84-Q84) -> -1.3877788e-17 | Y84: Week 7 | Z84: User 1 | AA84: ALPHA | AB84: Completed
B85: Footstep | C85: 2 | D85: Footstep_Hellpig_Run_Sand | E85: Hellpig - Use sound event fade in time | F85: Material Footstep | G85: Foot_HellPig | H85: One Shot | I85: 15 | J85: Mono - 96khz - 24 bit | K85: 0.0034722222 | L85: 0.020833333 | M85: 0.041666667 | N85: 0.0034722222 | O85: 0.010416667 | P85: =SUM(K85:O85) -> 0.079861111 | Q85: =SUM(R85:W85) -> 0.079861111 | R85: 0.0069444444 | S85: 0.020833333 | T85: 0.041666667 | U85: 0.0069444444 | W85: 0.0034722222 | X85: =SUM(P85-Q85) -> -1.3877788e-17 | Y85: Week 7 | Z85: User 1 | AA85: ALPHA | AB85: Completed
B86: Footstep | C86: 1 | D86: Footstep_Hellpig_Run_Rock | E86: Hellpig - Use sound event fade in time | F86: Material Footstep | G86: Foot_HellPig | H86: One Shot | I86: 15 | J86: Mono - 96khz - 24 bit | K86: 0.0034722222 | L86: 0.020833333 | M86: 0.041666667 | N86: 0.0034722222 | O86: 0.010416667 | P86: =SUM(K86:O86) -> 0.079861111 | Q86: =SUM(R86:W86) -> 0.079861111 | R86: 0.0069444444 | S86: 0.020833333 | T86: 0.041666667 | U86: 0.0069444444 | W86: 0.0034722222 | X86: =SUM(P86-Q86) -> -1.3877788e-17 | Y86: Week 7 | Z86: User 1 | AA86: ALPHA | AB86: Completed
B87: Footstep | C87: 1 | D87: Footstep_Hellpig_Run_Stone | E87: Hellpig - Use sound event fade in time | F87: Material Footstep | G87: Foot_HellPig | H87: One Shot | I87: 15 | J87: Mono - 96khz - 24 bit | K87: 0.0034722222 | L87: 0.020833333 | M87: 0.041666667 | N87: 0.0034722222 | O87: 0.010416667 | P87: =SUM(K87:O87) -> 0.079861111 | Q87: =SUM(R87:W87) -> 0.079861111 | R87: 0.0069444444 | S87: 0.020833333 | T87: 0.041666667 | U87: 0.0069444444 | W87: 0.0034722222 | X87: =SUM(P87-Q87) -> -1.3877788e-17 | Y87: Week 7 | Z87: User 1 | AA87: ALPHA | AB87: Completed
B88: Footstep | C88: 4 | D88: Footstep_Hellpig_Run_Water | E88: Hellpig - Use sound event fade in time | F88: Material Footstep | G88: Foot_HellPig | H88: One Shot | I88: 15 | J88: Mono - 96khz - 24 bit | K88: 0.0034722222 | L88: 0 | M88: 0 | N88: 0.0034722222 | O88: 0.010416667 | P88: =SUM(K88:O88) -> 0.017361111 | Q88: =SUM(R88:W88) -> 0.017361111 | R88: 0.0069444444 | S88: 0 | T88: 0 | U88: 0.0034722222 | W88: 0.0069444444 | X88: =SUM(P88-Q88) -> 0 | Y88: Week 7 | Z88: User 1 | AA88: ALPHA | AB88: Completed
B89: Footstep | C89: 1 | D89: Footstep_Hellpig_Run_Wood | E89: Hellpig - Use sound event fade in time | F89: Material Footstep | G89: Foot_HellPig | H89: One Shot | I89: 15 | J89: Mono - 96khz - 24 bit | K89: 0.0034722222 | L89: 0.020833333 | M89: 0.041666667 | N89: 0.0034722222 | O89: 0.010416667 | P89: =SUM(K89:O89) -> 0.079861111 | Q89: =SUM(R89:W89) -> 0.079861111 | R89: 0.0069444444 | S89: 0.020833333 | T89: 0.041666667 | U89: 0.0069444444 | W89: 0.0034722222 | X89: =SUM(P89-Q89) -> -1.3877788e-17 | Y89: Week 7 | Z89: User 1 | AA89: ALPHA | AB89: Completed
B90: Footstep | C90: 1 | D90: Footstep_Hellpig_Run_Peddles | E90: Hellpig - Use sound event fade in time | F90: Material Footstep | G90: Foot_HellPig | H90: One Shot | I90: 15 | J90: Mono - 96khz - 24 bit | K90: 0.0034722222 | L90: 0.020833333 | M90: 0.041666667 | N90: 0.0034722222 | O90: 0.010416667 | P90: =SUM(K90:O90) -> 0.079861111 | Q90: =SUM(R90:W90) -> 0.079861111 | R90: 0.0069444444 | S90: 0.020833333 | T90: 0.041666667 | U90: 0.0069444444 | W90: 0.0034722222 | X90: =SUM(P90-Q90) -> -1.3877788e-17 | Y90: Week 7 | Z90: User 1 | AA90: ALPHA | AB90: Completed
B91: Footstep | C91: 1 | D91: Footstep_Hellpig_Run_Undergrowth | E91: Hellpig - Use sound event fade in time | F91: Material Footstep | G91: Foot_HellPig | H91: One Shot | I91: 15 | J91: Mono - 96khz - 24 bit | K91: 0.0034722222 | L91: 0.020833333 | M91: 0.041666667 | N91: 0.0034722222 | O91: 0.010416667 | P91: =SUM(K91:O91) -> 0.079861111 | Q91: =SUM(R91:W91) -> 0.079861111 | R91: 0.0069444444 | S91: 0.020833333 | T91: 0.041666667 | U91: 0.0069444444 | W91: 0.0034722222 | X91: =SUM(P91-Q91) -> -1.3877788e-17 | Y91: Week 7 | Z91: User 1 | AA91: ALPHA | AB91: Completed
B92: Footstep | C92: 1 | D92: Footstep_Rhino_Run_Concrete | E92: Rhino - Use sound event fade in time | F92: Material Footstep | G92: Foot_Rhino | H92: One Shot | I92: 15 | J92: Mono - 96khz - 24 bit | K92: 0.0034722222 | L92: 0.020833333 | M92: 0.041666667 | N92: 0.0034722222 | O92: 0.010416667 | P92: =SUM(K92:O92) -> 0.079861111 | Q92: =SUM(R92:W92) -> 0.079861111 | R92: 0.0069444444 | S92: 0.020833333 | T92: 0.041666667 | U92: 0.0069444444 | W92: 0.0034722222 | X92: =SUM(P92-Q92) -> -1.3877788e-17 | Y92: Week 7 | Z92: User 1 | AA92: ALPHA | AB92: Completed
B93: Footstep | C93: 2 | D93: Footstep_Rhino_Run_Grass | E93: Rhino - Use sound event fade in time | F93: Material Footstep | G93: Foot_Rhino | H93: One Shot | I93: 15 | J93: Mono - 96khz - 24 bit | K93: 0.0034722222 | L93: 0.020833333 | M93: 0.041666667 | N93: 0.0034722222 | O93: 0.010416667 | P93: =SUM(K93:O93) -> 0.079861111 | Q93: =SUM(R93:W93) -> 0.079861111 | R93: 0.0069444444 | S93: 0.020833333 | T93: 0.041666667 | U93: 0.0069444444 | W93: 0.0034722222 | X93: =SUM(P93-Q93) -> -1.3877788e-17 | Y93: Week 7 | Z93: User 1 | AA93: ALPHA | AB93: Completed
... B103: Footstep | C103: 2 | D103: Footstep_Bauul_Run_Water_Close | E103: Bauul - Use sound event fade in time | F103: Material Footstep | G103: Foot_Bauul | H103: One Shot | I103: 10 | J103: Mono - 96khz - 24 bit | K103: 0.0034722222 | L103: 0.020833333 | M103: 0.041666667 | N103: 0.010416667 | O103: 0.0034722222 | P103: =SUM(K103:O103) -> 0.079861111 | Q103: =SUM(R103:W103) -> 0.079861111 | R103: 0.0069444444 | S103: 0.020833333 | T103: 0.041666667 | U103: 0.0069444444 | W103: 0.0034722222 | X103: =SUM(P103-Q103) -> -1.3877788e-17 | Y103: Week 8 | Z103: User 1 | AA103: ALPHA | AB103: Completed
B104: Footstep | C104: 4 | D104: Footstep_Bauul_Run_Generic_Close | E104: Bauul - Use sound event fade in time | F104: Material Footstep | G104: Foot_Bauul | H104: One Shot | I104: 10 | J104: Mono - 96khz - 24 bit | K104: 0.0034722222 | L104: 0.020833333 | M104: 0.083333333 | N104: 0.010416667 | O104: 0.0034722222 | P104: =SUM(K104:O104) -> 0.12152778 | Q104: =SUM(R104:W104) -> 0.12152778 | R104: 0.0069444444 | S104: 0.020833333 | T104: 0.041666667 | U104: 0.0069444444 | V104: 0.041666667 | W104: 0.0034722222 | X104: =SUM(P104-Q104) -> 0 | Y104: Week 8 | Z104: User 1 | AA104: ALPHA | AB104: Completed
B105: Footstep | C105: 1 | D105: Footstep_Bauul_Run_Generic_Far | E105: Bauul - Use sound event fade in time | F105: Material Footstep | G105: Foot_Bauul | H105: One Shot | I105: 10 | J105: Mono - 96khz - 24 bit | K105: 0.0034722222 | L105: 0.020833333 | M105: 0.083333333 | N105: 0.010416667 | O105: 0.0034722222 | P105: =SUM(K105:O105) -> 0.12152778 | Q105: =SUM(R105:W105) -> 0.12152778 | R105: 0.0069444444 | S105: 0.020833333 | T105: 0.041666667 | U105: 0.0069444444 | V105: 0.041666667 | W105: 0.0034722222 | X105: =SUM(P105-Q105) -> 0 | Y105: Week 8 | Z105: User 1 | AA105: ALPHA | AB105: Completed
B106: Armour | C106: 2 | D106: Armour_Leather_Torso_Fast | E106: Use Footstep entity type, use sound event fade in time + probability | F106: No (No armour Type) PlayerInWater | G106: Foot_Ogre Foot_Rat Foot_Player | H106: One Shot | I106: 30 | J106: Mono - 96khz - 24 bit | K106: 0.0034722222 | L106: 0.020833333 | M106: 0.083333333 | N106: 0.010416667 | O106: 0.010416667 | P106: =SUM(K106:O106) -> 0.12847222 | Q106: =SUM(R106:W106) -> 0.12847222 | R106: 0.0069444444 | S106: 0.024305556 | T106: 0.083333333 | U106: 0.010416667 | W106: 0.0034722222 | X106: =SUM(P106-Q106) -> 0 | Y106: Week 3 | Z106: User 1 | AA106: ALPHA | AB106: Completed
B107: Armour | C107: 3 | D107: Armour_Cloth_Torso_Fast | E107: Use Footstep entity type, use sound event fade in time + probability | F107: No (No armour Type) PlayerInWater | G107: Foot_Slith Foot_Bauul | H107: One Shot | I107: 30 | J107: Mono - 96khz - 24 bit | K107: 0.0034722222 | L107: 0.020833333 | M107: 0.083333333 | N107: 0.010416667 | O107: 0.010416667 | P107: =SUM(K107:O107) -> 0.12847222 | Q107: =SUM(R107:W107) -> 0.12847222 | R107: 0.0069444444 | S107: 0.027777778 | T107: 0.083333333 | U107: 0.0069444444 | W107: 0.0034722222 | X107: =SUM(P107-Q107) -> 0 | Y107: Week 2 | Z107: User 1 | AA107: ALPHA | AB107: Completed
B108: Armour | C108: 1 | D108: Armour_Metal_Plate_Torso_Fast | E108: Use Footstep entity type, use sound event fade in time + probability | F108: No (No armour Type) PlayerInWater | G108: Foot_Knight | H108: One Shot | I108: 30 | J108: Mono - 96khz - 24 bit | K108: 0.0034722222 | L108: 0.041666667 | M108: 0.083333333 | N108: 0.010416667 | O108: 0.010416667 | P108: =SUM(K108:O108) -> 0.14930556 | Q108: =SUM(R108:W108) -> 0.14930556 | R108: 0.0069444444 | S108: 0.03125 | T108: 0.083333333 | U108: 0.010416667 | W108: 0.017361111 | X108: =SUM(P108-Q108) -> -2.7755576e-17 | Y108: Week 2 | Z108: User 1 | AA108: ALPHA | AB108: Completed
B109: Armour | C109: 1 | D109: Armour_Mechanical_Torso_Fast | E109: Use Footstep entity type, use sound event fade in time + probability | F109: No (No armour Type) PlayerInWater | G109: Foot_Rhino | H109: One Shot | I109: 30 | J109: Mono - 96khz - 24 bit | K109: 0.0034722222 | L109: 0.020833333 | M109: 0.041666667 | N109: 0.010416667 | O109: 0.010416667 | P109: =SUM(K109:O109) -> 0.086805556 | Q109: =SUM(R109:W109) -> 0.086805556 | R109: 0.0069444444 | S109: 0.010416667 | T109: 0.048611111 | U109: 0.010416667 | W109: 0.010416667 | X109: =SUM(P109-Q109) -> -1.3877788e-17 | Y109: Week 7 | Z109: User 1 | AA109: ALPHA | AB109: Completed
B110: Bodyfall | C110: 1 | D110: Body_Impact_Leather | E110: Trigger when an entity is hit | G110: Vocal_Pain | H110: One Shot | I110: 5 | J110: Mono - 96khz - 24 bit | K110: 0.0034722222 | L110: 0.010416667 | M110: 0.041666667 | N110: 0.0069444444 | O110: 0.010416667 | P110: =SUM(K110:O110) -> 0.072916667 | Q110: =SUM(R110:W110) -> 0.072916667 | R110: 0.0069444444 | S110: 0.0069444444 | T110: 0.041666667 | U110: 0.0069444444 | W110: 0.010416667 | X110: =SUM(P110-Q110) -> 0 | Y110: Week 2 | Z110: User 1 | AA110: ALPHA | AB110: Completed
...

Sheet Variables
B3: Area Type | C3: Format | D3: Status | E3: Content Owner | F3: Date | G3: Priority | H3: Milestone
B4: Pending | C4: Pending | D4: Pending | E4: Pending | F4: Pending | G4: Pending | H4: Pending
B5: Environment | C5: Stereo - 44.1khz - 16 bit | D5: In Progress | E5: User 1 | F5: Week 1 | G5: 1 | H5: Pre-Production
B6: Elements | C6: Stereo - 96khz - 24 bit | D6: Completed | E6: User 2 | F6: Week 2 | G6: 2 | H6: ALPHA
B7: Weaponary | C7: Mono - 44.1khz - 16 bit | D7: Blocked | E7: User 3 | F7: Week 3 | G7: 3 | H7: BETA
B8: Projectiles | C8: Mono - 96khz - 24 bit | D8: Descoped | E8: User 4 | F8: Week 4 | G8: 4 | H8: FINAL
B9: Armour | D9: Rework | F9: Week 5
B10: Footstep | F10: Week 6
B11: Bodyfall | F11: Week 7
B12: Vocalisation | F12: Week 8
B13: UI | F13: Week 9
B14: Music | F14: Week 10
B15: Dialogue | F15: Week 11
B16: Magic | F16: Week 12
B17: Misc | F17: Week 13
B18: Trailer | F18: Week 14
B19: Data | F19: Week 15
B20: TEST | F20: Week 16
F21: Week 17
F22: Week 18
F23: Week 19
F24: Week 20
